Workbook

Sheet Inwentaryzacja
A1: Inwentaryzacja
A2: invenva.com
A3: Data | D3: Liczył(a)
A4: Lokalizacja
A6: Nazwa | B6: Jednostka | C6: Ilość | D6: Policzone | E6: Różnica | F6: Powód | G6: Notatki
E7: =IF(OR($A7="",$D7=""),"",IF(ISNUMBER($D7),$D7,0)-IF(ISNUMBER($C7),$C7,0))
E8: =IF(OR($A8="",$D8=""),"",IF(ISNUMBER($D8),$D8,0)-IF(ISNUMBER($C8),$C8,0))
E9: =IF(OR($A9="",$D9=""),"",IF(ISNUMBER($D9),$D9,0)-IF(ISNUMBER($C9),$C9,0))
E10: =IF(OR($A10="",$D10=""),"",IF(ISNUMBER($D10),$D10,0)-IF(ISNUMBER($C10),$C10,0))
E11: =IF(OR($A11="",$D11=""),"",IF(ISNUMBER($D11),$D11,0)-IF(ISNUMBER($C11),$C11,0))
E12: =IF(OR($A12="",$D12=""),"",IF(ISNUMBER($D12),$D12,0)-IF(ISNUMBER($C12),$C12,0))
E13: =IF(OR($A13="",$D13=""),"",IF(ISNUMBER($D13),$D13,0)-IF(ISNUMBER($C13),$C13,0))
E14: =IF(OR($A14="",$D14=""),"",IF(ISNUMBER($D14),$D14,0)-IF(ISNUMBER($C14),$C14,0))
E15: =IF(OR($A15="",$D15=""),"",IF(ISNUMBER($D15),$D15,0)-IF(ISNUMBER($C15),$C15,0))
E16: =IF(OR($A16="",$D16=""),"",IF(ISNUMBER($D16),$D16,0)-IF(ISNUMBER($C16),$C16,0))
E17: =IF(OR($A17="",$D17=""),"",IF(ISNUMBER($D17),$D17,0)-IF(ISNUMBER($C17),$C17,0))
E18: =IF(OR($A18="",$D18=""),"",IF(ISNUMBER($D18),$D18,0)-IF(ISNUMBER($C18),$C18,0))
... E506: =IF(OR($A506="",$D506=""),"",IF(ISNUMBER($D506),$D506,0)-IF(ISNUMBER($C506),$C506,0))

Sheet Spis z natury
A1: Spis z natury
A2: towarów handlowych, materiałów (surowców) podstawowych i pomocniczych, półwyrobów,
A3: produkcji w toku, wyrobów gotowych, braków i odpadów
A5: Imię i nazwisko właściciela zakładu (nazwa firmy)
A6: NIP
A7: Spis sporządzony na dzień
A8: Data sporządzenia spisu z natury
A9: Spis sporządził(a)
A10: Data wyceny
E11: Łączna wartość spisu z natury | F11: =SUM($F$18:$F$517)
A12: Spis obejmuje też własne towary poza zakładem i towary obce w zakładzie (§ 21 ust. 3).
A13: Towary obce wpisz bez wyceny, z podaniem, czyją stanowią własność (§ 21 ust. 3).
A14: Wycena najpóźniej w terminie 14 dni od dnia zakończenia spisu z natury (§ 22 ust. 7).
A15: Każda pozycja pokazuje ten sam wiersz arkusza Inwentaryzacja: dodawaj, usuwaj i sortuj wiersze tam, zanim wpiszesz tu ceny.
A17: Lp. | B17: Nazwa (szczegółowe określenie składnika) | C17: J.m. | D17: Ilość stwierdzona | E17: Cena jednostkowa (zł, gr) | F17: Wartość (zł, gr) | G17: Cena zakupu (nabycia), gdy wycena niższa | H17: Uwagi
A18: =IF(OR(OFFSET('Inwentaryzacja'!$A$6,1,0)<>"",LEN($D18)>0,LEN($E18)>0),1,"") | B18: =IF(OFFSET('Inwentaryzacja'!$A$6,1,0)<>"",OFFSET('Inwentaryzacja'!$A$6,1,0),"") | C18: =IF(OR(OFFSET('Inwentaryzacja'!$A$6,1,0)="",OFFSET('Inwentaryzacja'!$B$6,1,0)=""),"",OFFSET('Inwentaryzacja'!$B$6,1,0)) | D18: =IF(OR(OFFSET('Inwentaryzacja'!$A$6,1,0)="",OFFSET('Inwentaryzacja'!$D$6,1,0)=""),"",OFFSET('Inwentaryzacja'!$D$6,1,0)) | F18: =IF(AND(ISNUMBER($D18),ISNUMBER($E18)),ROUND($D18*$E18,2),"")
A19: =IF(OR(OFFSET('Inwentaryzacja'!$A$6,2,0)<>"",LEN($D19)>0,LEN($E19)>0),COUNT($A$18:$A18)+1,"") | B19: =IF(OFFSET('Inwentaryzacja'!$A$6,2,0)<>"",OFFSET('Inwentaryzacja'!$A$6,2,0),IF(AND(ISNUMBER($A18),COUNT($A19:$A$517)=0),"Spis zakończono na pozycji "&$A18,"")) | C19: =IF(OR(OFFSET('Inwentaryzacja'!$A$6,2,0)="",OFFSET('Inwentaryzacja'!$B$6,2,0)=""),"",OFFSET('Inwentaryzacja'!$B$6,2,0)) | D19: =IF(OR(OFFSET('Inwentaryzacja'!$A$6,2,0)="",OFFSET('Inwentaryzacja'!$D$6,2,0)=""),"",OFFSET('Inwentaryzacja'!$D$6,2,0)) | F19: =IF(AND(ISNUMBER($D19),ISNUMBER($E19)),ROUND($D19*$E19,2),"")
A20: =IF(OR(OFFSET('Inwentaryzacja'!$A$6,3,0)<>"",LEN($D20)>0,LEN($E20)>0),COUNT($A$18:$A19)+1,"") | B20: =IF(OFFSET('Inwentaryzacja'!$A$6,3,0)<>"",OFFSET('Inwentaryzacja'!$A$6,3,0),IF(AND(ISNUMBER($A19),COUNT($A20:$A$517)=0),"Spis zakończono na pozycji "&$A19,"")) | C20: =IF(OR(OFFSET('Inwentaryzacja'!$A$6,3,0)="",OFFSET('Inwentaryzacja'!$B$6,3,0)=""),"",OFFSET('Inwentaryzacja'!$B$6,3,0)) | D20: =IF(OR(OFFSET('Inwentaryzacja'!$A$6,3,0)="",OFFSET('Inwentaryzacja'!$D$6,3,0)=""),"",OFFSET('Inwentaryzacja'!$D$6,3,0)) | F20: =IF(AND(ISNUMBER($D20),ISNUMBER($E20)),ROUND($D20*$E20,2),"")
A21: =IF(OR(OFFSET('Inwentaryzacja'!$A$6,4,0)<>"",LEN($D21)>0,LEN($E21)>0),COUNT($A$18:$A20)+1,"") | B21: =IF(OFFSET('Inwentaryzacja'!$A$6,4,0)<>"",OFFSET('Inwentaryzacja'!$A$6,4,0),IF(AND(ISNUMBER($A20),COUNT($A21:$A$517)=0),"Spis zakończono na pozycji "&$A20,"")) | C21: =IF(OR(OFFSET('Inwentaryzacja'!$A$6,4,0)="",OFFSET('Inwentaryzacja'!$B$6,4,0)=""),"",OFFSET('Inwentaryzacja'!$B$6,4,0)) | D21: =IF(OR(OFFSET('Inwentaryzacja'!$A$6,4,0)="",OFFSET('Inwentaryzacja'!$D$6,4,0)=""),"",OFFSET('Inwentaryzacja'!$D$6,4,0)) | F21: =IF(AND(ISNUMBER($D21),ISNUMBER($E21)),ROUND($D21*$E21,2),"")
A22: =IF(OR(OFFSET('Inwentaryzacja'!$A$6,5,0)<>"",LEN($D22)>0,LEN($E22)>0),COUNT($A$18:$A21)+1,"") | B22: =IF(OFFSET('Inwentaryzacja'!$A$6,5,0)<>"",OFFSET('Inwentaryzacja'!$A$6,5,0),IF(AND(ISNUMBER($A21),COUNT($A22:$A$517)=0),"Spis zakończono na pozycji "&$A21,"")) | C22: =IF(OR(OFFSET('Inwentaryzacja'!$A$6,5,0)="",OFFSET('Inwentaryzacja'!$B$6,5,0)=""),"",OFFSET('Inwentaryzacja'!$B$6,5,0)) | D22: =IF(OR(OFFSET('Inwentaryzacja'!$A$6,5,0)="",OFFSET('Inwentaryzacja'!$D$6,5,0)=""),"",OFFSET('Inwentaryzacja'!$D$6,5,0)) | F22: =IF(AND(ISNUMBER($D22),ISNUMBER($E22)),ROUND($D22*$E22,2),"")
A23: =IF(OR(OFFSET('Inwentaryzacja'!$A$6,6,0)<>"",LEN($D23)>0,LEN($E23)>0),COUNT($A$18:$A22)+1,"") | B23: =IF(OFFSET('Inwentaryzacja'!$A$6,6,0)<>"",OFFSET('Inwentaryzacja'!$A$6,6,0),IF(AND(ISNUMBER($A22),COUNT($A23:$A$517)=0),"Spis zakończono na pozycji "&$A22,"")) | C23: =IF(OR(OFFSET('Inwentaryzacja'!$A$6,6,0)="",OFFSET('Inwentaryzacja'!$B$6,6,0)=""),"",OFFSET('Inwentaryzacja'!$B$6,6,0)) | D23: =IF(OR(OFFSET('Inwentaryzacja'!$A$6,6,0)="",OFFSET('Inwentaryzacja'!$D$6,6,0)=""),"",OFFSET('Inwentaryzacja'!$D$6,6,0)) | F23: =IF(AND(ISNUMBER($D23),ISNUMBER($E23)),ROUND($D23*$E23,2),"")
A24: =IF(OR(OFFSET('Inwentaryzacja'!$A$6,7,0)<>"",LEN($D24)>0,LEN($E24)>0),COUNT($A$18:$A23)+1,"") | B24: =IF(OFFSET('Inwentaryzacja'!$A$6,7,0)<>"",OFFSET('Inwentaryzacja'!$A$6,7,0),IF(AND(ISNUMBER($A23),COUNT($A24:$A$517)=0),"Spis zakończono na pozycji "&$A23,"")) | C24: =IF(OR(OFFSET('Inwentaryzacja'!$A$6,7,0)="",OFFSET('Inwentaryzacja'!$B$6,7,0)=""),"",OFFSET('Inwentaryzacja'!$B$6,7,0)) | D24: =IF(OR(OFFSET('Inwentaryzacja'!$A$6,7,0)="",OFFSET('Inwentaryzacja'!$D$6,7,0)=""),"",OFFSET('Inwentaryzacja'!$D$6,7,0)) | F24: =IF(AND(ISNUMBER($D24),ISNUMBER($E24)),ROUND($D24*$E24,2),"")
A25: =IF(OR(OFFSET('Inwentaryzacja'!$A$6,8,0)<>"",LEN($D25)>0,LEN($E25)>0),COUNT($A$18:$A24)+1,"") | B25: =IF(OFFSET('Inwentaryzacja'!$A$6,8,0)<>"",OFFSET('Inwentaryzacja'!$A$6,8,0),IF(AND(ISNUMBER($A24),COUNT($A25:$A$517)=0),"Spis zakończono na pozycji "&$A24,"")) | C25: =IF(OR(OFFSET('Inwentaryzacja'!$A$6,8,0)="",OFFSET('Inwentaryzacja'!$B$6,8,0)=""),"",OFFSET('Inwentaryzacja'!$B$6,8,0)) | D25: =IF(OR(OFFSET('Inwentaryzacja'!$A$6,8,0)="",OFFSET('Inwentaryzacja'!$D$6,8,0)=""),"",OFFSET('Inwentaryzacja'!$D$6,8,0)) | F25: =IF(AND(ISNUMBER($D25),ISNUMBER($E25)),ROUND($D25*$E25,2),"")
A26: =IF(OR(OFFSET('Inwentaryzacja'!$A$6,9,0)<>"",LEN($D26)>0,LEN($E26)>0),COUNT($A$18:$A25)+1,"") | B26: =IF(OFFSET('Inwentaryzacja'!$A$6,9,0)<>"",OFFSET('Inwentaryzacja'!$A$6,9,0),IF(AND(ISNUMBER($A25),COUNT($A26:$A$517)=0),"Spis zakończono na pozycji "&$A25,"")) | C26: =IF(OR(OFFSET('Inwentaryzacja'!$A$6,9,0)="",OFFSET('Inwentaryzacja'!$B$6,9,0)=""),"",OFFSET('Inwentaryzacja'!$B$6,9,0)) | D26: =IF(OR(OFFSET('Inwentaryzacja'!$A$6,9,0)="",OFFSET('Inwentaryzacja'!$D$6,9,0)=""),"",OFFSET('Inwentaryzacja'!$D$6,9,0)) | F26: =IF(AND(ISNUMBER($D26),ISNUMBER($E26)),ROUND($D26*$E26,2),"")
A27: =IF(OR(OFFSET('Inwentaryzacja'!$A$6,10,0)<>"",LEN($D27)>0,LEN($E27)>0),COUNT($A$18:$A26)+1,"") | B27: =IF(OFFSET('Inwentaryzacja'!$A$6,10,0)<>"",OFFSET('Inwentaryzacja'!$A$6,10,0),IF(AND(ISNUMBER($A26),COUNT($A27:$A$517)=0),"Spis zakończono na pozycji "&$A26,"")) | C27: =IF(OR(OFFSET('Inwentaryzacja'!$A$6,10,0)="",OFFSET('Inwentaryzacja'!$B$6,10,0)=""),"",OFFSET('Inwentaryzacja'!$B$6,10,0)) | D27: =IF(OR(OFFSET('Inwentaryzacja'!$A$6,10,0)="",OFFSET('Inwentaryzacja'!$D$6,10,0)=""),"",OFFSET('Inwentaryzacja'!$D$6,10,0)) | F27: =IF(AND(ISNUMBER($D27),ISNUMBER($E27)),ROUND($D27*$E27,2),"")
A28: =IF(OR(OFFSET('Inwentaryzacja'!$A$6,11,0)<>"",LEN($D28)>0,LEN($E28)>0),COUNT($A$18:$A27)+1,"") | B28: =IF(OFFSET('Inwentaryzacja'!$A$6,11,0)<>"",OFFSET('Inwentaryzacja'!$A$6,11,0),IF(AND(ISNUMBER($A27),COUNT($A28:$A$517)=0),"Spis zakończono na pozycji "&$A27,"")) | C28: =IF(OR(OFFSET('Inwentaryzacja'!$A$6,11,0)="",OFFSET('Inwentaryzacja'!$B$6,11,0)=""),"",OFFSET('Inwentaryzacja'!$B$6,11,0)) | D28: =IF(OR(OFFSET('Inwentaryzacja'!$A$6,11,0)="",OFFSET('Inwentaryzacja'!$D$6,11,0)=""),"",OFFSET('Inwentaryzacja'!$D$6,11,0)) | F28: =IF(AND(ISNUMBER($D28),ISNUMBER($E28)),ROUND($D28*$E28,2),"")
A29: =IF(OR(OFFSET('Inwentaryzacja'!$A$6,12,0)<>"",LEN($D29)>0,LEN($E29)>0),COUNT($A$18:$A28)+1,"") | B29: =IF(OFFSET('Inwentaryzacja'!$A$6,12,0)<>"",OFFSET('Inwentaryzacja'!$A$6,12,0),IF(AND(ISNUMBER($A28),COUNT($A29:$A$517)=0),"Spis zakończono na pozycji "&$A28,"")) | C29: =IF(OR(OFFSET('Inwentaryzacja'!$A$6,12,0)="",OFFSET('Inwentaryzacja'!$B$6,12,0)=""),"",OFFSET('Inwentaryzacja'!$B$6,12,0)) | D29: =IF(OR(OFFSET('Inwentaryzacja'!$A$6,12,0)="",OFFSET('Inwentaryzacja'!$D$6,12,0)=""),"",OFFSET('Inwentaryzacja'!$D$6,12,0)) | F29: =IF(AND(ISNUMBER($D29),ISNUMBER($E29)),ROUND($D29*$E29,2),"")
A30: =IF(OR(OFFSET('Inwentaryzacja'!$A$6,13,0)<>"",LEN($D30)>0,LEN($E30)>0),COUNT($A$18:$A29)+1,"") | B30: =IF(OFFSET('Inwentaryzacja'!$A$6,13,0)<>"",OFFSET('Inwentaryzacja'!$A$6,13,0),IF(AND(ISNUMBER($A29),COUNT($A30:$A$517)=0),"Spis zakończono na pozycji "&$A29,"")) | C30: =IF(OR(OFFSET('Inwentaryzacja'!$A$6,13,0)="",OFFSET('Inwentaryzacja'!$B$6,13,0)=""),"",OFFSET('Inwentaryzacja'!$B$6,13,0)) | D30: =IF(OR(OFFSET('Inwentaryzacja'!$A$6,13,0)="",OFFSET('Inwentaryzacja'!$D$6,13,0)=""),"",OFFSET('Inwentaryzacja'!$D$6,13,0)) | F30: =IF(AND(ISNUMBER($D30),ISNUMBER($E30)),ROUND($D30*$E30,2),"")
A31: =IF(OR(OFFSET('Inwentaryzacja'!$A$6,14,0)<>"",LEN($D31)>0,LEN($E31)>0),COUNT($A$18:$A30)+1,"") | B31: =IF(OFFSET('Inwentaryzacja'!$A$6,14,0)<>"",OFFSET('Inwentaryzacja'!$A$6,14,0),IF(AND(ISNUMBER($A30),COUNT($A31:$A$517)=0),"Spis zakończono na pozycji "&$A30,"")) | C31: =IF(OR(OFFSET('Inwentaryzacja'!$A$6,14,0)="",OFFSET('Inwentaryzacja'!$B$6,14,0)=""),"",OFFSET('Inwentaryzacja'!$B$6,14,0)) | D31: =IF(OR(OFFSET('Inwentaryzacja'!$A$6,14,0)="",OFFSET('Inwentaryzacja'!$D$6,14,0)=""),"",OFFSET('Inwentaryzacja'!$D$6,14,0)) | F31: =IF(AND(ISNUMBER($D31),ISNUMBER($E31)),ROUND($D31*$E31,2),"")
A32: =IF(OR(OFFSET('Inwentaryzacja'!$A$6,15,0)<>"",LEN($D32)>0,LEN($E32)>0),COUNT($A$18:$A31)+1,"") | B32: =IF(OFFSET('Inwentaryzacja'!$A$6,15,0)<>"",OFFSET('Inwentaryzacja'!$A$6,15,0),IF(AND(ISNUMBER($A31),COUNT($A32:$A$517)=0),"Spis zakończono na pozycji "&$A31,"")) | C32: =IF(OR(OFFSET('Inwentaryzacja'!$A$6,15,0)="",OFFSET('Inwentaryzacja'!$B$6,15,0)=""),"",OFFSET('Inwentaryzacja'!$B$6,15,0)) | D32: =IF(OR(OFFSET('Inwentaryzacja'!$A$6,15,0)="",OFFSET('Inwentaryzacja'!$D$6,15,0)=""),"",OFFSET('Inwentaryzacja'!$D$6,15,0)) | F32: =IF(AND(ISNUMBER($D32),ISNUMBER($E32)),ROUND($D32*$E32,2),"")
A33: =IF(OR(OFFSET('Inwentaryzacja'!$A$6,16,0)<>"",LEN($D33)>0,LEN($E33)>0),COUNT($A$18:$A32)+1,"") | B33: =IF(OFFSET('Inwentaryzacja'!$A$6,16,0)<>"",OFFSET('Inwentaryzacja'!$A$6,16,0),IF(AND(ISNUMBER($A32),COUNT($A33:$A$517)=0),"Spis zakończono na pozycji "&$A32,"")) | C33: =IF(OR(OFFSET('Inwentaryzacja'!$A$6,16,0)="",OFFSET('Inwentaryzacja'!$B$6,16,0)=""),"",OFFSET('Inwentaryzacja'!$B$6,16,0)) | D33: =IF(OR(OFFSET('Inwentaryzacja'!$A$6,16,0)="",OFFSET('Inwentaryzacja'!$D$6,16,0)=""),"",OFFSET('Inwentaryzacja'!$D$6,16,0)) | F33: =IF(AND(ISNUMBER($D33),ISNUMBER($E33)),ROUND($D33*$E33,2),"")
A34: =IF(OR(OFFSET('Inwentaryzacja'!$A$6,17,0)<>"",LEN($D34)>0,LEN($E34)>0),COUNT($A$18:$A33)+1,"") | B34: =IF(OFFSET('Inwentaryzacja'!$A$6,17,0)<>"",OFFSET('Inwentaryzacja'!$A$6,17,0),IF(AND(ISNUMBER($A33),COUNT($A34:$A$517)=0),"Spis zakończono na pozycji "&$A33,"")) | C34: =IF(OR(OFFSET('Inwentaryzacja'!$A$6,17,0)="",OFFSET('Inwentaryzacja'!$B$6,17,0)=""),"",OFFSET('Inwentaryzacja'!$B$6,17,0)) | D34: =IF(OR(OFFSET('Inwentaryzacja'!$A$6,17,0)="",OFFSET('Inwentaryzacja'!$D$6,17,0)=""),"",OFFSET('Inwentaryzacja'!$D$6,17,0)) | F34: =IF(AND(ISNUMBER($D34),ISNUMBER($E34)),ROUND($D34*$E34,2),"")
A35: =IF(OR(OFFSET('Inwentaryzacja'!$A$6,18,0)<>"",LEN($D35)>0,LEN($E35)>0),COUNT($A$18:$A34)+1,"") | B35: =IF(OFFSET('Inwentaryzacja'!$A$6,18,0)<>"",OFFSET('Inwentaryzacja'!$A$6,18,0),IF(AND(ISNUMBER($A34),COUNT($A35:$A$517)=0),"Spis zakończono na pozycji "&$A34,"")) | C35: =IF(OR(OFFSET('Inwentaryzacja'!$A$6,18,0)="",OFFSET('Inwentaryzacja'!$B$6,18,0)=""),"",OFFSET('Inwentaryzacja'!$B$6,18,0)) | D35: =IF(OR(OFFSET('Inwentaryzacja'!$A$6,18,0)="",OFFSET('Inwentaryzacja'!$D$6,18,0)=""),"",OFFSET('Inwentaryzacja'!$D$6,18,0)) | F35: =IF(AND(ISNUMBER($D35),ISNUMBER($E35)),ROUND($D35*$E35,2),"")
A36: =IF(OR(OFFSET('Inwentaryzacja'!$A$6,19,0)<>"",LEN($D36)>0,LEN($E36)>0),COUNT($A$18:$A35)+1,"") | B36: =IF(OFFSET('Inwentaryzacja'!$A$6,19,0)<>"",OFFSET('Inwentaryzacja'!$A$6,19,0),IF(AND(ISNUMBER($A35),COUNT($A36:$A$517)=0),"Spis zakończono na pozycji "&$A35,"")) | C36: =IF(OR(OFFSET('Inwentaryzacja'!$A$6,19,0)="",OFFSET('Inwentaryzacja'!$B$6,19,0)=""),"",OFFSET('Inwentaryzacja'!$B$6,19,0)) | D36: =IF(OR(OFFSET('Inwentaryzacja'!$A$6,19,0)="",OFFSET('Inwentaryzacja'!$D$6,19,0)=""),"",OFFSET('Inwentaryzacja'!$D$6,19,0)) | F36: =IF(AND(ISNUMBER($D36),ISNUMBER($E36)),ROUND($D36*$E36,2),"")
A37: =IF(OR(OFFSET('Inwentaryzacja'!$A$6,20,0)<>"",LEN($D37)>0,LEN($E37)>0),COUNT($A$18:$A36)+1,"") | B37: =IF(OFFSET('Inwentaryzacja'!$A$6,20,0)<>"",OFFSET('Inwentaryzacja'!$A$6,20,0),IF(AND(ISNUMBER($A36),COUNT($A37:$A$517)=0),"Spis zakończono na pozycji "&$A36,"")) | C37: =IF(OR(OFFSET('Inwentaryzacja'!$A$6,20,0)="",OFFSET('Inwentaryzacja'!$B$6,20,0)=""),"",OFFSET('Inwentaryzacja'!$B$6,20,0)) | D37: =IF(OR(OFFSET('Inwentaryzacja'!$A$6,20,0)="",OFFSET('Inwentaryzacja'!$D$6,20,0)=""),"",OFFSET('Inwentaryzacja'!$D$6,20,0)) | F37: =IF(AND(ISNUMBER($D37),ISNUMBER($E37)),ROUND($D37*$E37,2),"")
A38: =IF(OR(OFFSET('Inwentaryzacja'!$A$6,21,0)<>"",LEN($D38)>0,LEN($E38)>0),COUNT($A$18:$A37)+1,"") | B38: =IF(OFFSET('Inwentaryzacja'!$A$6,21,0)<>"",OFFSET('Inwentaryzacja'!$A$6,21,0),IF(AND(ISNUMBER($A37),COUNT($A38:$A$517)=0),"Spis zakończono na pozycji "&$A37,"")) | C38: =IF(OR(OFFSET('Inwentaryzacja'!$A$6,21,0)="",OFFSET('Inwentaryzacja'!$B$6,21,0)=""),"",OFFSET('Inwentaryzacja'!$B$6,21,0)) | D38: =IF(OR(OFFSET('Inwentaryzacja'!$A$6,21,0)="",OFFSET('Inwentaryzacja'!$D$6,21,0)=""),"",OFFSET('Inwentaryzacja'!$D$6,21,0)) | F38: =IF(AND(ISNUMBER($D38),ISNUMBER($E38)),ROUND($D38*$E38,2),"")
A39: =IF(OR(OFFSET('Inwentaryzacja'!$A$6,22,0)<>"",LEN($D39)>0,LEN($E39)>0),COUNT($A$18:$A38)+1,"") | B39: =IF(OFFSET('Inwentaryzacja'!$A$6,22,0)<>"",OFFSET('Inwentaryzacja'!$A$6,22,0),IF(AND(ISNUMBER($A38),COUNT($A39:$A$517)=0),"Spis zakończono na pozycji "&$A38,"")) | C39: =IF(OR(OFFSET('Inwentaryzacja'!$A$6,22,0)="",OFFSET('Inwentaryzacja'!$B$6,22,0)=""),"",OFFSET('Inwentaryzacja'!$B$6,22,0)) | D39: =IF(OR(OFFSET('Inwentaryzacja'!$A$6,22,0)="",OFFSET('Inwentaryzacja'!$D$6,22,0)=""),"",OFFSET('Inwentaryzacja'!$D$6,22,0)) | F39: =IF(AND(ISNUMBER($D39),ISNUMBER($E39)),ROUND($D39*$E39,2),"")
A40: =IF(OR(OFFSET('Inwentaryzacja'!$A$6,23,0)<>"",LEN($D40)>0,LEN($E40)>0),COUNT($A$18:$A39)+1,"") | B40: =IF(OFFSET('Inwentaryzacja'!$A$6,23,0)<>"",OFFSET('Inwentaryzacja'!$A$6,23,0),IF(AND(ISNUMBER($A39),COUNT($A40:$A$517)=0),"Spis zakończono na pozycji "&$A39,"")) | C40: =IF(OR(OFFSET('Inwentaryzacja'!$A$6,23,0)="",OFFSET('Inwentaryzacja'!$B$6,23,0)=""),"",OFFSET('Inwentaryzacja'!$B$6,23,0)) | D40: =IF(OR(OFFSET('Inwentaryzacja'!$A$6,23,0)="",OFFSET('Inwentaryzacja'!$D$6,23,0)=""),"",OFFSET('Inwentaryzacja'!$D$6,23,0)) | F40: =IF(AND(ISNUMBER($D40),ISNUMBER($E40)),ROUND($D40*$E40,2),"")
A41: =IF(OR(OFFSET('Inwentaryzacja'!$A$6,24,0)<>"",LEN($D41)>0,LEN($E41)>0),COUNT($A$18:$A40)+1,"") | B41: =IF(OFFSET('Inwentaryzacja'!$A$6,24,0)<>"",OFFSET('Inwentaryzacja'!$A$6,24,0),IF(AND(ISNUMBER($A40),COUNT($A41:$A$517)=0),"Spis zakończono na pozycji "&$A40,"")) | C41: =IF(OR(OFFSET('Inwentaryzacja'!$A$6,24,0)="",OFFSET('Inwentaryzacja'!$B$6,24,0)=""),"",OFFSET('Inwentaryzacja'!$B$6,24,0)) | D41: =IF(OR(OFFSET('Inwentaryzacja'!$A$6,24,0)="",OFFSET('Inwentaryzacja'!$D$6,24,0)=""),"",OFFSET('Inwentaryzacja'!$D$6,24,0)) | F41: =IF(AND(ISNUMBER($D41),ISNUMBER($E41)),ROUND($D41*$E41,2),"")
A42: =IF(OR(OFFSET('Inwentaryzacja'!$A$6,25,0)<>"",LEN($D42)>0,LEN($E42)>0),COUNT($A$18:$A41)+1,"") | B42: =IF(OFFSET('Inwentaryzacja'!$A$6,25,0)<>"",OFFSET('Inwentaryzacja'!$A$6,25,0),IF(AND(ISNUMBER($A41),COUNT($A42:$A$517)=0),"Spis zakończono na pozycji "&$A41,"")) | C42: =IF(OR(OFFSET('Inwentaryzacja'!$A$6,25,0)="",OFFSET('Inwentaryzacja'!$B$6,25,0)=""),"",OFFSET('Inwentaryzacja'!$B$6,25,0)) | D42: =IF(OR(OFFSET('Inwentaryzacja'!$A$6,25,0)="",OFFSET('Inwentaryzacja'!$D$6,25,0)=""),"",OFFSET('Inwentaryzacja'!$D$6,25,0)) | F42: =IF(AND(ISNUMBER($D42),ISNUMBER($E42)),ROUND($D42*$E42,2),"")
...

Sheet Invenva
A1: Ten plik przygotowała Invenva, aplikacja magazynowa dla małych sklepów i zespołów.
A2: Liczenie w Invenva utrzymuje każdy wiersz na miejscu, liczy przez skanowanie kodów kreskowych i zapisuje jeden zapis inwentaryzacji z tym, kto, kiedy, przed i po.
A3: Otwórz Invenva
