Workbook

Sheet Inwentaryzacja
A1: Inwentaryzacja
A2: invenva.com
A3: Data | D3: Liczył(a)
A4: Lokalizacja
A6: Nazwa | B6: Jednostka | C6: Ilość | D6: Policzone | E6: Różnica | F6: Powód | G6: Notatki
E7: =IF(OR($A7="",$D7=""),"",IF(ISNUMBER($D7),$D7,0)-IF(ISNUMBER($C7),$C7,0))
E8: =IF(OR($A8="",$D8=""),"",IF(ISNUMBER($D8),$D8,0)-IF(ISNUMBER($C8),$C8,0))
E9: =IF(OR($A9="",$D9=""),"",IF(ISNUMBER($D9),$D9,0)-IF(ISNUMBER($C9),$C9,0))
E10: =IF(OR($A10="",$D10=""),"",IF(ISNUMBER($D10),$D10,0)-IF(ISNUMBER($C10),$C10,0))
E11: =IF(OR($A11="",$D11=""),"",IF(ISNUMBER($D11),$D11,0)-IF(ISNUMBER($C11),$C11,0))
E12: =IF(OR($A12="",$D12=""),"",IF(ISNUMBER($D12),$D12,0)-IF(ISNUMBER($C12),$C12,0))
E13: =IF(OR($A13="",$D13=""),"",IF(ISNUMBER($D13),$D13,0)-IF(ISNUMBER($C13),$C13,0))
E14: =IF(OR($A14="",$D14=""),"",IF(ISNUMBER($D14),$D14,0)-IF(ISNUMBER($C14),$C14,0))
E15: =IF(OR($A15="",$D15=""),"",IF(ISNUMBER($D15),$D15,0)-IF(ISNUMBER($C15),$C15,0))
E16: =IF(OR($A16="",$D16=""),"",IF(ISNUMBER($D16),$D16,0)-IF(ISNUMBER($C16),$C16,0))
E17: =IF(OR($A17="",$D17=""),"",IF(ISNUMBER($D17),$D17,0)-IF(ISNUMBER($C17),$C17,0))
E18: =IF(OR($A18="",$D18=""),"",IF(ISNUMBER($D18),$D18,0)-IF(ISNUMBER($C18),$C18,0))
... E506: =IF(OR($A506="",$D506=""),"",IF(ISNUMBER($D506),$D506,0)-IF(ISNUMBER($C506),$C506,0))

Sheet Spis z natury
A1: Spis z natury
A2: towarów handlowych, materiałów (surowców) podstawowych i pomocniczych, półwyrobów,
A3: produkcji w toku, wyrobów gotowych, braków i odpadów
A5: Imię i nazwisko właściciela zakładu (nazwa firmy)
A6: NIP
A7: Spis sporządzony na dzień
A8: Data sporządzenia spisu z natury
A9: Spis sporządził(a)
A10: Data wyceny
E11: Łączna wartość spisu z natury | F11: =SUM($F$18:$F$517)
A12: Spis obejmuje też własne towary poza zakładem i towary obce w zakładzie (§ 21 ust. 3).
A13: Towary obce wpisz bez wyceny, z podaniem, czyją stanowią własność (§ 21 ust. 3).
A14: Wycena najpóźniej w terminie 14 dni od dnia zakończenia spisu z natury (§ 22 ust. 7).
A15: Każda pozycja pokazuje ten sam wiersz arkusza Inwentaryzacja: dodawaj, usuwaj i sortuj wiersze tam, zanim wpiszesz tu ceny.
A17: Lp. | B17: Nazwa (szczegółowe określenie składnika) | C17: J.m. | D17: Ilość stwierdzona | E17: Cena jednostkowa (zł, gr) | F17: Wartość (zł, gr) | G17: Cena zakupu (nabycia), gdy wycena niższa | H17: Uwagi
A18: =IF(OR(OFFSET('Inwentaryzacja'!$A$6,1,0)<>"",LEN($D18)>0,LEN($E18)>0),1,"") | B18: =IF(OFFSET('Inwentaryzacja'!$A$6,1,0)<>"",OFFSET('Inwentaryzacja'!$A$6,1,0),"") | C18: =IF(OR(OFFSET('Inwentaryzacja'!$A$6,1,0)="",OFFSET('Inwentaryzacja'!$B$6,1,0)=""),"",OFFSET('Inwentaryzacja'!$B$6,1,0)) | D18: =IF(OR(OFFSET('Inwentaryzacja'!$A$6,1,0)="",OFFSET('Inwentaryzacja'!$D$6,1,0)=""),"",OFFSET('Inwentaryzacja'!$D$6,1,0)) | F18: =IF(AND(ISNUMBER($D18),ISNUMBER($E18)),ROUND($D18*$E18,2),"")
A19: =IF(OR(OFFSET('Inwentaryzacja'!$A$6,2,0)<>"",LEN($D19)>0,LEN($E19)>0),COUNT($A$18:$A18)+1,"") | B19: =IF(OFFSET('Inwentaryzacja'!$A$6,2,0)<>"",OFFSET('Inwentaryzacja'!$A$6,2,0),IF(AND(ISNUMBER($A18),COUNT($A19:$A$517)=0),"Spis zakończono na pozycji "&$A18,"")) | C19: =IF(OR(OFFSET('Inwentaryzacja'!$A$6,2,0)="",OFFSET('Inwentaryzacja'!$B$6,2,0)=""),"",OFFSET('Inwentaryzacja'!$B$6,2,0)) | D19: =IF(OR(OFFSET('Inwentaryzacja'!$A$6,2,0)="",OFFSET('Inwentaryzacja'!$D$6,2,0)=""),"",OFFSET('Inwentaryzacja'!$D$6,2,0)) | F19: =IF(AND(ISNUMBER($D19),ISNUMBER($E19)),ROUND($D19*$E19,2),"")
A20: =IF(OR(OFFSET('Inwentaryzacja'!$A$6,3,0)<>"",LEN($D20)>0,LEN($E20)>0),COUNT($A$18:$A19)+1,"") | B20: =IF(OFFSET('Inwentaryzacja'!$A$6,3,0)<>"",OFFSET('Inwentaryzacja'!$A$6,3,0),IF(AND(ISNUMBER($A19),COUNT($A20:$A$517)=0),"Spis zakończono na pozycji "&$A19,"")) | C20: =IF(OR(OFFSET('Inwentaryzacja'!$A$6,3,0)="",OFFSET('Inwentaryzacja'!$B$6,3,0)=""),"",OFFSET('Inwentaryzacja'!$B$6,3,0)) | D20: =IF(OR(OFFSET('Inwentaryzacja'!$A$6,3,0)="",OFFSET('Inwentaryzacja'!$D$6,3,0)=""),"",OFFSET('Inwentaryzacja'!$D$6,3,0)) | F20: =IF(AND(ISNUMBER($D20),ISNUMBER($E20)),ROUND($D20*$E20,2),"")
A21: =IF(OR(OFFSET('Inwentaryzacja'!$A$6,4,0)<>"",LEN($D21)>0,LEN($E21)>0),COUNT($A$18:$A20)+1,"") | B21: =IF(OFFSET('Inwentaryzacja'!$A$6,4,0)<>"",OFFSET('Inwentaryzacja'!$A$6,4,0),IF(AND(ISNUMBER($A20),COUNT($A21:$A$517)=0),"Spis zakończono na pozycji "&$A20,"")) | C21: =IF(OR(OFFSET('Inwentaryzacja'!$A$6,4,0)="",OFFSET('Inwentaryzacja'!$B$6,4,0)=""),"",OFFSET('Inwentaryzacja'!$B$6,4,0)) | D21: =IF(OR(OFFSET('Inwentaryzacja'!$A$6,4,0)="",OFFSET('Inwentaryzacja'!$D$6,4,0)=""),"",OFFSET('Inwentaryzacja'!$D$6,4,0)) | F21: =IF(AND(ISNUMBER($D21),ISNUMBER($E21)),ROUND($D21*$E21,2),"")
A22: =IF(OR(OFFSET('Inwentaryzacja'!$A$6,5,0)<>"",LEN($D22)>0,LEN($E22)>0),COUNT($A$18:$A21)+1,"") | B22: =IF(OFFSET('Inwentaryzacja'!$A$6,5,0)<>"",OFFSET('Inwentaryzacja'!$A$6,5,0),IF(AND(ISNUMBER($A21),COUNT($A22:$A$517)=0),"Spis zakończono na pozycji "&$A21,"")) | C22: =IF(OR(OFFSET('Inwentaryzacja'!$A$6,5,0)="",OFFSET('Inwentaryzacja'!$B$6,5,0)=""),"",OFFSET('Inwentaryzacja'!$B$6,5,0)) | D22: =IF(OR(OFFSET('Inwentaryzacja'!$A$6,5,0)="",OFFSET('Inwentaryzacja'!$D$6,5,0)=""),"",OFFSET('Inwentaryzacja'!$D$6,5,0)) | F22: =IF(AND(ISNUMBER($D22),ISNUMBER($E22)),ROUND($D22*$E22,2),"")
A23: =IF(OR(OFFSET('Inwentaryzacja'!$A$6,6,0)<>"",LEN($D23)>0,LEN($E23)>0),COUNT($A$18:$A22)+1,"") | B23: =IF(OFFSET('Inwentaryzacja'!$A$6,6,0)<>"",OFFSET('Inwentaryzacja'!$A$6,6,0),IF(AND(ISNUMBER($A22),COUNT($A23:$A$517)=0),"Spis zakończono na pozycji "&$A22,"")) | C23: =IF(OR(OFFSET('Inwentaryzacja'!$A$6,6,0)="",OFFSET('Inwentaryzacja'!$B$6,6,0)=""),"",OFFSET('Inwentaryzacja'!$B$6,6,0)) | D23: =IF(OR(OFFSET('Inwentaryzacja'!$A$6,6,0)="",OFFSET('Inwentaryzacja'!$D$6,6,0)=""),"",OFFSET('Inwentaryzacja'!$D$6,6,0)) | F23: =IF(AND(ISNUMBER($D23),ISNUMBER($E23)),ROUND($D23*$E23,2),"")
A24: =IF(OR(OFFSET('Inwentaryzacja'!$A$6,7,0)<>"",LEN($D24)>0,LEN($E24)>0),COUNT($A$18:$A23)+1,"") | B24: =IF(OFFSET('Inwentaryzacja'!$A$6,7,0)<>"",OFFSET('Inwentaryzacja'!$A$6,7,0),IF(AND(ISNUMBER($A23),COUNT($A24:$A$517)=0),"Spis zakończono na pozycji "&$A23,"")) | C24: =IF(OR(OFFSET('Inwentaryzacja'!$A$6,7,0)="",OFFSET('Inwentaryzacja'!$B$6,7,0)=""),"",OFFSET('Inwentaryzacja'!$B$6,7,0)) | D24: =IF(OR(OFFSET('Inwentaryzacja'!$A$6,7,0)="",OFFSET('Inwentaryzacja'!$D$6,7,0)=""),"",OFFSET('Inwentaryzacja'!$D$6,7,0)) | F24: =IF(AND(ISNUMBER($D24),ISNUMBER($E24)),ROUND($D24*$E24,2),"")
A25: =IF(OR(OFFSET('Inwentaryzacja'!$A$6,8,0)<>"",LEN($D25)>0,LEN($E25)>0),COUNT($A$18:$A24)+1,"") | B25: =IF(OFFSET('Inwentaryzacja'!$A$6,8,0)<>"",OFFSET('Inwentaryzacja'!$A$6,8,0),IF(AND(ISNUMBER($A24),COUNT($A25:$A$517)=0),"Spis zakończono na pozycji "&$A24,"")) | C25: =IF(OR(OFFSET('Inwentaryzacja'!$A$6,8,0)="",OFFSET('Inwentaryzacja'!$B$6,8,0)=""),"",OFFSET('Inwentaryzacja'!$B$6,8,0)) | D25: =IF(OR(OFFSET('Inwentaryzacja'!$A$6,8,0)="",OFFSET('Inwentaryzacja'!$D$6,8,0)=""),"",OFFSET('Inwentaryzacja'!$D$6,8,0)) | F25: =IF(AND(ISNUMBER($D25),ISNUMBER($E25)),ROUND($D25*$E25,2),"")
A26: =IF(OR(OFFSET('Inwentaryzacja'!$A$6,9,0)<>"",LEN($D26)>0,LEN($E26)>0),COUNT($A$18:$A25)+1,"") | B26: =IF(OFFSET('Inwentaryzacja'!$A$6,9,0)<>"",OFFSET('Inwentaryzacja'!$A$6,9,0),IF(AND(ISNUMBER($A25),COUNT($A26:$A$517)=0),"Spis zakończono na pozycji "&$A25,"")) | C26: =IF(OR(OFFSET('Inwentaryzacja'!$A$6,9,0)="",OFFSET('Inwentaryzacja'!$B$6,9,0)=""),"",OFFSET('Inwentaryzacja'!$B$6,9,0)) | D26: =IF(OR(OFFSET('Inwentaryzacja'!$A$6,9,0)="",OFFSET('Inwentaryzacja'!$D$6,9,0)=""),"",OFFSET('Inwentaryzacja'!$D$6,9,0)) | F26: =IF(AND(ISNUMBER($D26),ISNUMBER($E26)),ROUND($D26*$E26,2),"")
A27: =IF(OR(OFFSET('Inwentaryzacja'!$A$6,10,0)<>"",LEN($D27)>0,LEN($E27)>0),COUNT($A$18:$A26)+1,"") | B27: =IF(OFFSET('Inwentaryzacja'!$A$6,10,0)<>"",OFFSET('Inwentaryzacja'!$A$6,10,0),IF(AND(ISNUMBER($A26),COUNT($A27:$A$517)=0),"Spis zakończono na pozycji "&$A26,"")) | C27: =IF(OR(OFFSET('Inwentaryzacja'!$A$6,10,0)="",OFFSET('Inwentaryzacja'!$B$6,10,0)=""),"",OFFSET('Inwentaryzacja'!$B$6,10,0)) | D27: =IF(OR(OFFSET('Inwentaryzacja'!$A$6,10,0)="",OFFSET('Inwentaryzacja'!$D$6,10,0)=""),"",OFFSET('Inwentaryzacja'!$D$6,10,0)) | F27: =IF(AND(ISNUMBER($D27),ISNUMBER($E27)),ROUND($D27*$E27,2),"")
A28: =IF(OR(OFFSET('Inwentaryzacja'!$A$6,11,0)<>"",LEN($D28)>0,LEN($E28)>0),COUNT($A$18:$A27)+1,"") | B28: =IF(OFFSET('Inwentaryzacja'!$A$6,11,0)<>"",OFFSET('Inwentaryzacja'!$A$6,11,0),IF(AND(ISNUMBER($A27),COUNT($A28:$A$517)=0),"Spis zakończono na pozycji "&$A27,"")) | C28: =IF(OR(OFFSET('Inwentaryzacja'!$A$6,11,0)="",OFFSET('Inwentaryzacja'!$B$6,11,0)=""),"",OFFSET('Inwentaryzacja'!$B$6,11,0)) | D28: =IF(OR(OFFSET('Inwentaryzacja'!$A$6,11,0)="",OFFSET('Inwentaryzacja'!$D$6,11,0)=""),"",OFFSET('Inwentaryzacja'!$D$6,11,0)) | F28: =IF(AND(ISNUMBER($D28),ISNUMBER($E28)),ROUND($D28*$E28,2),"")
A29: =IF(OR(OFFSET('Inwentaryzacja'!$A$6,12,0)<>"",LEN($D29)>0,LEN($E29)>0),COUNT($A$18:$A28)+1,"") | B29: =IF(OFFSET('Inwentaryzacja'!$A$6,12,0)<>"",OFFSET('Inwentaryzacja'!$A$6,12,0),IF(AND(ISNUMBER($A28),COUNT($A29:$A$517)=0),"Spis zakończono na pozycji "&$A28,"")) | C29: =IF(OR(OFFSET('Inwentaryzacja'!$A$6,12,0)="",OFFSET('Inwentaryzacja'!$B$6,12,0)=""),"",OFFSET('Inwentaryzacja'!$B$6,12,0)) | D29: =IF(OR(OFFSET('Inwentaryzacja'!$A$6,12,0)="",OFFSET('Inwentaryzacja'!$D$6,12,0)=""),"",OFFSET('Inwentaryzacja'!$D$6,12,0)) | F29: =IF(AND(ISNUMBER($D29),ISNUMBER($E29)),ROUND($D29*$E29,2),"")
A30: =IF(OR(OFFSET('Inwentaryzacja'!$A$6,13,0)<>"",LEN($D30)>0,LEN($E30)>0),COUNT($A$18:$A29)+1,"") | B30: =IF(OFFSET('Inwentaryzacja'!$A$6,13,0)<>"",OFFSET('Inwentaryzacja'!$A$6,13,0),IF(AND(ISNUMBER($A29),COUNT($A30:$A$517)=0),"Spis zakończono na pozycji "&$A29,"")) | C30: =IF(OR(OFFSET('Inwentaryzacja'!$A$6,13,0)="",OFFSET('Inwentaryzacja'!$B$6,13,0)=""),"",OFFSET('Inwentaryzacja'!$B$6,13,0)) | D30: =IF(OR(OFFSET('Inwentaryzacja'!$A$6,13,0)="",OFFSET('Inwentaryzacja'!$D$6,13,0)=""),"",OFFSET('Inwentaryzacja'!$D$6,13,0)) | F30: =IF(AND(ISNUMBER($D30),ISNUMBER($E30)),ROUND($D30*$E30,2),"")
A31: =IF(OR(OFFSET('Inwentaryzacja'!$A$6,14,0)<>"",LEN($D31)>0,LEN($E31)>0),COUNT($A$18:$A30)+1,"") | B31: =IF(OFFSET('Inwentaryzacja'!$A$6,14,0)<>"",OFFSET('Inwentaryzacja'!$A$6,14,0),IF(AND(ISNUMBER($A30),COUNT($A31:$A$517)=0),"Spis zakończono na pozycji "&$A30,"")) | C31: =IF(OR(OFFSET('Inwentaryzacja'!$A$6,14,0)="",OFFSET('Inwentaryzacja'!$B$6,14,0)=""),"",OFFSET('Inwentaryzacja'!$B$6,14,0)) | D31: =IF(OR(OFFSET('Inwentaryzacja'!$A$6,14,0)="",OFFSET('Inwentaryzacja'!$D$6,14,0)=""),"",OFFSET('Inwentaryzacja'!$D$6,14,0)) | F31: =IF(AND(ISNUMBER($D31),ISNUMBER($E31)),ROUND($D31*$E31,2),"")
A32: =IF(OR(OFFSET('Inwentaryzacja'!$A$6,15,0)<>"",LEN($D32)>0,LEN($E32)>0),COUNT($A$18:$A31)+1,"") | B32: =IF(OFFSET('Inwentaryzacja'!$A$6,15,0)<>"",OFFSET('Inwentaryzacja'!$A$6,15,0),IF(AND(ISNUMBER($A31),COUNT($A32:$A$517)=0),"Spis zakończono na pozycji "&$A31,"")) | C32: =IF(OR(OFFSET('Inwentaryzacja'!$A$6,15,0)="",OFFSET('Inwentaryzacja'!$B$6,15,0)=""),"",OFFSET('Inwentaryzacja'!$B$6,15,0)) | D32: =IF(OR(OFFSET('Inwentaryzacja'!$A$6,15,0)="",OFFSET('Inwentaryzacja'!$D$6,15,0)=""),"",OFFSET('Inwentaryzacja'!$D$6,15,0)) | F32: =IF(AND(ISNUMBER($D32),ISNUMBER($E32)),ROUND($D32*$E32,2),"")
A33: =IF(OR(OFFSET('Inwentaryzacja'!$A$6,16,0)<>"",LEN($D33)>0,LEN($E33)>0),COUNT($A$18:$A32)+1,"") | B33: =IF(OFFSET('Inwentaryzacja'!$A$6,16,0)<>"",OFFSET('Inwentaryzacja'!$A$6,16,0),IF(AND(ISNUMBER($A32),COUNT($A33:$A$517)=0),"Spis zakończono na pozycji "&$A32,"")) | C33: =IF(OR(OFFSET('Inwentaryzacja'!$A$6,16,0)="",OFFSET('Inwentaryzacja'!$B$6,16,0)=""),"",OFFSET('Inwentaryzacja'!$B$6,16,0)) | D33: =IF(OR(OFFSET('Inwentaryzacja'!$A$6,16,0)="",OFFSET('Inwentaryzacja'!$D$6,16,0)=""),"",OFFSET('Inwentaryzacja'!$D$6,16,0)) | F33: =IF(AND(ISNUMBER($D33),ISNUMBER($E33)),ROUND($D33*$E33,2),"")
A34: =IF(OR(OFFSET('Inwentaryzacja'!$A$6,17,0)<>"",LEN($D34)>0,LEN($E34)>0),COUNT($A$18:$A33)+1,"") | B34: =IF(OFFSET('Inwentaryzacja'!$A$6,17,0)<>"",OFFSET('Inwentaryzacja'!$A$6,17,0),IF(AND(ISNUMBER($A33),COUNT($A34:$A$517)=0),"Spis zakończono na pozycji "&$A33,"")) | C34: =IF(OR(OFFSET('Inwentaryzacja'!$A$6,17,0)="",OFFSET('Inwentaryzacja'!$B$6,17,0)=""),"",OFFSET('Inwentaryzacja'!$B$6,17,0)) | D34: =IF(OR(OFFSET('Inwentaryzacja'!$A$6,17,0)="",OFFSET('Inwentaryzacja'!$D$6,17,0)=""),"",OFFSET('Inwentaryzacja'!$D$6,17,0)) | F34: =IF(AND(ISNUMBER($D34),ISNUMBER($E34)),ROUND($D34*$E34,2),"")
A35: =IF(OR(OFFSET('Inwentaryzacja'!$A$6,18,0)<>"",LEN($D35)>0,LEN($E35)>0),COUNT($A$18:$A34)+1,"") | B35: =IF(OFFSET('Inwentaryzacja'!$A$6,18,0)<>"",OFFSET('Inwentaryzacja'!$A$6,18,0),IF(AND(ISNUMBER($A34),COUNT($A35:$A$517)=0),"Spis zakończono na pozycji "&$A34,"")) | C35: =IF(OR(OFFSET('Inwentaryzacja'!$A$6,18,0)="",OFFSET('Inwentaryzacja'!$B$6,18,0)=""),"",OFFSET('Inwentaryzacja'!$B$6,18,0)) | D35: =IF(OR(OFFSET('Inwentaryzacja'!$A$6,18,0)="",OFFSET('Inwentaryzacja'!$D$6,18,0)=""),"",OFFSET('Inwentaryzacja'!$D$6,18,0)) | F35: =IF(AND(ISNUMBER($D35),ISNUMBER($E35)),ROUND($D35*$E35,2),"")
A36: =IF(OR(OFFSET('Inwentaryzacja'!$A$6,19,0)<>"",LEN($D36)>0,LEN($E36)>0),COUNT($A$18:$A35)+1,"") | B36: =IF(OFFSET('Inwentaryzacja'!$A$6,19,0)<>"",OFFSET('Inwentaryzacja'!$A$6,19,0),IF(AND(ISNUMBER($A35),COUNT($A36:$A$517)=0),"Spis zakończono na pozycji "&$A35,"")) | C36: =IF(OR(OFFSET('Inwentaryzacja'!$A$6,19,0)="",OFFSET('Inwentaryzacja'!$B$6,19,0)=""),"",OFFSET('Inwentaryzacja'!$B$6,19,0)) | D36: =IF(OR(OFFSET('Inwentaryzacja'!$A$6,19,0)="",OFFSET('Inwentaryzacja'!$D$6,19,0)=""),"",OFFSET('Inwentaryzacja'!$D$6,19,0)) | F36: =IF(AND(ISNUMBER($D36),ISNUMBER($E36)),ROUND($D36*$E36,2),"")
A37: =IF(OR(OFFSET('Inwentaryzacja'!$A$6,20,0)<>"",LEN($D37)>0,LEN($E37)>0),COUNT($A$18:$A36)+1,"") | B37: =IF(OFFSET('Inwentaryzacja'!$A$6,20,0)<>"",OFFSET('Inwentaryzacja'!$A$6,20,0),IF(AND(ISNUMBER($A36),COUNT($A37:$A$517)=0),"Spis zakończono na pozycji "&$A36,"")) | C37: =IF(OR(OFFSET('Inwentaryzacja'!$A$6,20,0)="",OFFSET('Inwentaryzacja'!$B$6,20,0)=""),"",OFFSET('Inwentaryzacja'!$B$6,20,0)) | D37: =IF(OR(OFFSET('Inwentaryzacja'!$A$6,20,0)="",OFFSET('Inwentaryzacja'!$D$6,20,0)=""),"",OFFSET('Inwentaryzacja'!$D$6,20,0)) | F37: =IF(AND(ISNUMBER($D37),ISNUMBER($E37)),ROUND($D37*$E37,2),"")
A38: =IF(OR(OFFSET('Inwentaryzacja'!$A$6,21,0)<>"",LEN($D38)>0,LEN($E38)>0),COUNT($A$18:$A37)+1,"") | B38: =IF(OFFSET('Inwentaryzacja'!$A$6,21,0)<>"",OFFSET('Inwentaryzacja'!$A$6,21,0),IF(AND(ISNUMBER($A37),COUNT($A38:$A$517)=0),"Spis zakończono na pozycji "&$A37,"")) | C38: =IF(OR(OFFSET('Inwentaryzacja'!$A$6,21,0)="",OFFSET('Inwentaryzacja'!$B$6,21,0)=""),"",OFFSET('Inwentaryzacja'!$B$6,21,0)) | D38: =IF(OR(OFFSET('Inwentaryzacja'!$A$6,21,0)="",OFFSET('Inwentaryzacja'!$D$6,21,0)=""),"",OFFSET('Inwentaryzacja'!$D$6,21,0)) | F38: =IF(AND(ISNUMBER($D38),ISNUMBER($E38)),ROUND($D38*$E38,2),"")
A39: =IF(OR(OFFSET('Inwentaryzacja'!$A$6,22,0)<>"",LEN($D39)>0,LEN($E39)>0),COUNT($A$18:$A38)+1,"") | B39: =IF(OFFSET('Inwentaryzacja'!$A$6,22,0)<>"",OFFSET('Inwentaryzacja'!$A$6,22,0),IF(AND(ISNUMBER($A38),COUNT($A39:$A$517)=0),"Spis zakończono na pozycji "&$A38,"")) | C39: =IF(OR(OFFSET('Inwentaryzacja'!$A$6,22,0)="",OFFSET('Inwentaryzacja'!$B$6,22,0)=""),"",OFFSET('Inwentaryzacja'!$B$6,22,0)) | D39: =IF(OR(OFFSET('Inwentaryzacja'!$A$6,22,0)="",OFFSET('Inwentaryzacja'!$D$6,22,0)=""),"",OFFSET('Inwentaryzacja'!$D$6,22,0)) | F39: =IF(AND(ISNUMBER($D39),ISNUMBER($E39)),ROUND($D39*$E39,2),"")
A40: =IF(OR(OFFSET('Inwentaryzacja'!$A$6,23,0)<>"",LEN($D40)>0,LEN($E40)>0),COUNT($A$18:$A39)+1,"") | B40: =IF(OFFSET('Inwentaryzacja'!$A$6,23,0)<>"",OFFSET('Inwentaryzacja'!$A$6,23,0),IF(AND(ISNUMBER($A39),COUNT($A40:$A$517)=0),"Spis zakończono na pozycji "&$A39,"")) | C40: =IF(OR(OFFSET('Inwentaryzacja'!$A$6,23,0)="",OFFSET('Inwentaryzacja'!$B$6,23,0)=""),"",OFFSET('Inwentaryzacja'!$B$6,23,0)) | D40: =IF(OR(OFFSET('Inwentaryzacja'!$A$6,23,0)="",OFFSET('Inwentaryzacja'!$D$6,23,0)=""),"",OFFSET('Inwentaryzacja'!$D$6,23,0)) | F40: =IF(AND(ISNUMBER($D40),ISNUMBER($E40)),ROUND($D40*$E40,2),"")
A41: =IF(OR(OFFSET('Inwentaryzacja'!$A$6,24,0)<>"",LEN($D41)>0,LEN($E41)>0),COUNT($A$18:$A40)+1,"") | B41: =IF(OFFSET('Inwentaryzacja'!$A$6,24,0)<>"",OFFSET('Inwentaryzacja'!$A$6,24,0),IF(AND(ISNUMBER($A40),COUNT($A41:$A$517)=0),"Spis zakończono na pozycji "&$A40,"")) | C41: =IF(OR(OFFSET('Inwentaryzacja'!$A$6,24,0)="",OFFSET('Inwentaryzacja'!$B$6,24,0)=""),"",OFFSET('Inwentaryzacja'!$B$6,24,0)) | D41: =IF(OR(OFFSET('Inwentaryzacja'!$A$6,24,0)="",OFFSET('Inwentaryzacja'!$D$6,24,0)=""),"",OFFSET('Inwentaryzacja'!$D$6,24,0)) | F41: =IF(AND(ISNUMBER($D41),ISNUMBER($E41)),ROUND($D41*$E41,2),"")
A42: =IF(OR(OFFSET('Inwentaryzacja'!$A$6,25,0)<>"",LEN($D42)>0,LEN($E42)>0),COUNT($A$18:$A41)+1,"") | B42: =IF(OFFSET('Inwentaryzacja'!$A$6,25,0)<>"",OFFSET('Inwentaryzacja'!$A$6,25,0),IF(AND(ISNUMBER($A41),COUNT($A42:$A$517)=0),"Spis zakończono na pozycji "&$A41,"")) | C42: =IF(OR(OFFSET('Inwentaryzacja'!$A$6,25,0)="",OFFSET('Inwentaryzacja'!$B$6,25,0)=""),"",OFFSET('Inwentaryzacja'!$B$6,25,0)) | D42: =IF(OR(OFFSET('Inwentaryzacja'!$A$6,25,0)="",OFFSET('Inwentaryzacja'!$D$6,25,0)=""),"",OFFSET('Inwentaryzacja'!$D$6,25,0)) | F42: =IF(AND(ISNUMBER($D42),ISNUMBER($E42)),ROUND($D42*$E42,2),"")
A43: =IF(OR(OFFSET('Inwentaryzacja'!$A$6,26,0)<>"",LEN($D43)>0,LEN($E43)>0),COUNT($A$18:$A42)+1,"") | B43: =IF(OFFSET('Inwentaryzacja'!$A$6,26,0)<>"",OFFSET('Inwentaryzacja'!$A$6,26,0),IF(AND(ISNUMBER($A42),COUNT($A43:$A$517)=0),"Spis zakończono na pozycji "&$A42,"")) | C43: =IF(OR(OFFSET('Inwentaryzacja'!$A$6,26,0)="",OFFSET('Inwentaryzacja'!$B$6,26,0)=""),"",OFFSET('Inwentaryzacja'!$B$6,26,0)) | D43: =IF(OR(OFFSET('Inwentaryzacja'!$A$6,26,0)="",OFFSET('Inwentaryzacja'!$D$6,26,0)=""),"",OFFSET('Inwentaryzacja'!$D$6,26,0)) | F43: =IF(AND(ISNUMBER($D43),ISNUMBER($E43)),ROUND($D43*$E43,2),"")
A44: =IF(OR(OFFSET('Inwentaryzacja'!$A$6,27,0)<>"",LEN($D44)>0,LEN($E44)>0),COUNT($A$18:$A43)+1,"") | B44: =IF(OFFSET('Inwentaryzacja'!$A$6,27,0)<>"",OFFSET('Inwentaryzacja'!$A$6,27,0),IF(AND(ISNUMBER($A43),COUNT($A44:$A$517)=0),"Spis zakończono na pozycji "&$A43,"")) | C44: =IF(OR(OFFSET('Inwentaryzacja'!$A$6,27,0)="",OFFSET('Inwentaryzacja'!$B$6,27,0)=""),"",OFFSET('Inwentaryzacja'!$B$6,27,0)) | D44: =IF(OR(OFFSET('Inwentaryzacja'!$A$6,27,0)="",OFFSET('Inwentaryzacja'!$D$6,27,0)=""),"",OFFSET('Inwentaryzacja'!$D$6,27,0)) | F44: =IF(AND(ISNUMBER($D44),ISNUMBER($E44)),ROUND($D44*$E44,2),"")
A45: =IF(OR(OFFSET('Inwentaryzacja'!$A$6,28,0)<>"",LEN($D45)>0,LEN($E45)>0),COUNT($A$18:$A44)+1,"") | B45: =IF(OFFSET('Inwentaryzacja'!$A$6,28,0)<>"",OFFSET('Inwentaryzacja'!$A$6,28,0),IF(AND(ISNUMBER($A44),COUNT($A45:$A$517)=0),"Spis zakończono na pozycji "&$A44,"")) | C45: =IF(OR(OFFSET('Inwentaryzacja'!$A$6,28,0)="",OFFSET('Inwentaryzacja'!$B$6,28,0)=""),"",OFFSET('Inwentaryzacja'!$B$6,28,0)) | D45: =IF(OR(OFFSET('Inwentaryzacja'!$A$6,28,0)="",OFFSET('Inwentaryzacja'!$D$6,28,0)=""),"",OFFSET('Inwentaryzacja'!$D$6,28,0)) | F45: =IF(AND(ISNUMBER($D45),ISNUMBER($E45)),ROUND($D45*$E45,2),"")
A46: =IF(OR(OFFSET('Inwentaryzacja'!$A$6,29,0)<>"",LEN($D46)>0,LEN($E46)>0),COUNT($A$18:$A45)+1,"") | B46: =IF(OFFSET('Inwentaryzacja'!$A$6,29,0)<>"",OFFSET('Inwentaryzacja'!$A$6,29,0),IF(AND(ISNUMBER($A45),COUNT($A46:$A$517)=0),"Spis zakończono na pozycji "&$A45,"")) | C46: =IF(OR(OFFSET('Inwentaryzacja'!$A$6,29,0)="",OFFSET('Inwentaryzacja'!$B$6,29,0)=""),"",OFFSET('Inwentaryzacja'!$B$6,29,0)) | D46: =IF(OR(OFFSET('Inwentaryzacja'!$A$6,29,0)="",OFFSET('Inwentaryzacja'!$D$6,29,0)=""),"",OFFSET('Inwentaryzacja'!$D$6,29,0)) | F46: =IF(AND(ISNUMBER($D46),ISNUMBER($E46)),ROUND($D46*$E46,2),"")
A47: =IF(OR(OFFSET('Inwentaryzacja'!$A$6,30,0)<>"",LEN($D47)>0,LEN($E47)>0),COUNT($A$18:$A46)+1,"") | B47: =IF(OFFSET('Inwentaryzacja'!$A$6,30,0)<>"",OFFSET('Inwentaryzacja'!$A$6,30,0),IF(AND(ISNUMBER($A46),COUNT($A47:$A$517)=0),"Spis zakończono na pozycji "&$A46,"")) | C47: =IF(OR(OFFSET('Inwentaryzacja'!$A$6,30,0)="",OFFSET('Inwentaryzacja'!$B$6,30,0)=""),"",OFFSET('Inwentaryzacja'!$B$6,30,0)) | D47: =IF(OR(OFFSET('Inwentaryzacja'!$A$6,30,0)="",OFFSET('Inwentaryzacja'!$D$6,30,0)=""),"",OFFSET('Inwentaryzacja'!$D$6,30,0)) | F47: =IF(AND(ISNUMBER($D47),ISNUMBER($E47)),ROUND($D47*$E47,2),"")
A48: =IF(OR(OFFSET('Inwentaryzacja'!$A$6,31,0)<>"",LEN($D48)>0,LEN($E48)>0),COUNT($A$18:$A47)+1,"") | B48: =IF(OFFSET('Inwentaryzacja'!$A$6,31,0)<>"",OFFSET('Inwentaryzacja'!$A$6,31,0),IF(AND(ISNUMBER($A47),COUNT($A48:$A$517)=0),"Spis zakończono na pozycji "&$A47,"")) | C48: =IF(OR(OFFSET('Inwentaryzacja'!$A$6,31,0)="",OFFSET('Inwentaryzacja'!$B$6,31,0)=""),"",OFFSET('Inwentaryzacja'!$B$6,31,0)) | D48: =IF(OR(OFFSET('Inwentaryzacja'!$A$6,31,0)="",OFFSET('Inwentaryzacja'!$D$6,31,0)=""),"",OFFSET('Inwentaryzacja'!$D$6,31,0)) | F48: =IF(AND(ISNUMBER($D48),ISNUMBER($E48)),ROUND($D48*$E48,2),"")
A49: =IF(OR(OFFSET('Inwentaryzacja'!$A$6,32,0)<>"",LEN($D49)>0,LEN($E49)>0),COUNT($A$18:$A48)+1,"") | B49: =IF(OFFSET('Inwentaryzacja'!$A$6,32,0)<>"",OFFSET('Inwentaryzacja'!$A$6,32,0),IF(AND(ISNUMBER($A48),COUNT($A49:$A$517)=0),"Spis zakończono na pozycji "&$A48,"")) | C49: =IF(OR(OFFSET('Inwentaryzacja'!$A$6,32,0)="",OFFSET('Inwentaryzacja'!$B$6,32,0)=""),"",OFFSET('Inwentaryzacja'!$B$6,32,0)) | D49: =IF(OR(OFFSET('Inwentaryzacja'!$A$6,32,0)="",OFFSET('Inwentaryzacja'!$D$6,32,0)=""),"",OFFSET('Inwentaryzacja'!$D$6,32,0)) | F49: =IF(AND(ISNUMBER($D49),ISNUMBER($E49)),ROUND($D49*$E49,2),"")
A50: =IF(OR(OFFSET('Inwentaryzacja'!$A$6,33,0)<>"",LEN($D50)>0,LEN($E50)>0),COUNT($A$18:$A49)+1,"") | B50: =IF(OFFSET('Inwentaryzacja'!$A$6,33,0)<>"",OFFSET('Inwentaryzacja'!$A$6,33,0),IF(AND(ISNUMBER($A49),COUNT($A50:$A$517)=0),"Spis zakończono na pozycji "&$A49,"")) | C50: =IF(OR(OFFSET('Inwentaryzacja'!$A$6,33,0)="",OFFSET('Inwentaryzacja'!$B$6,33,0)=""),"",OFFSET('Inwentaryzacja'!$B$6,33,0)) | D50: =IF(OR(OFFSET('Inwentaryzacja'!$A$6,33,0)="",OFFSET('Inwentaryzacja'!$D$6,33,0)=""),"",OFFSET('Inwentaryzacja'!$D$6,33,0)) | F50: =IF(AND(ISNUMBER($D50),ISNUMBER($E50)),ROUND($D50*$E50,2),"")
A51: =IF(OR(OFFSET('Inwentaryzacja'!$A$6,34,0)<>"",LEN($D51)>0,LEN($E51)>0),COUNT($A$18:$A50)+1,"") | B51: =IF(OFFSET('Inwentaryzacja'!$A$6,34,0)<>"",OFFSET('Inwentaryzacja'!$A$6,34,0),IF(AND(ISNUMBER($A50),COUNT($A51:$A$517)=0),"Spis zakończono na pozycji "&$A50,"")) | C51: =IF(OR(OFFSET('Inwentaryzacja'!$A$6,34,0)="",OFFSET('Inwentaryzacja'!$B$6,34,0)=""),"",OFFSET('Inwentaryzacja'!$B$6,34,0)) | D51: =IF(OR(OFFSET('Inwentaryzacja'!$A$6,34,0)="",OFFSET('Inwentaryzacja'!$D$6,34,0)=""),"",OFFSET('Inwentaryzacja'!$D$6,34,0)) | F51: =IF(AND(ISNUMBER($D51),ISNUMBER($E51)),ROUND($D51*$E51,2),"")
A52: =IF(OR(OFFSET('Inwentaryzacja'!$A$6,35,0)<>"",LEN($D52)>0,LEN($E52)>0),COUNT($A$18:$A51)+1,"") | B52: =IF(OFFSET('Inwentaryzacja'!$A$6,35,0)<>"",OFFSET('Inwentaryzacja'!$A$6,35,0),IF(AND(ISNUMBER($A51),COUNT($A52:$A$517)=0),"Spis zakończono na pozycji "&$A51,"")) | C52: =IF(OR(OFFSET('Inwentaryzacja'!$A$6,35,0)="",OFFSET('Inwentaryzacja'!$B$6,35,0)=""),"",OFFSET('Inwentaryzacja'!$B$6,35,0)) | D52: =IF(OR(OFFSET('Inwentaryzacja'!$A$6,35,0)="",OFFSET('Inwentaryzacja'!$D$6,35,0)=""),"",OFFSET('Inwentaryzacja'!$D$6,35,0)) | F52: =IF(AND(ISNUMBER($D52),ISNUMBER($E52)),ROUND($D52*$E52,2),"")
A53: =IF(OR(OFFSET('Inwentaryzacja'!$A$6,36,0)<>"",LEN($D53)>0,LEN($E53)>0),COUNT($A$18:$A52)+1,"") | B53: =IF(OFFSET('Inwentaryzacja'!$A$6,36,0)<>"",OFFSET('Inwentaryzacja'!$A$6,36,0),IF(AND(ISNUMBER($A52),COUNT($A53:$A$517)=0),"Spis zakończono na pozycji "&$A52,"")) | C53: =IF(OR(OFFSET('Inwentaryzacja'!$A$6,36,0)="",OFFSET('Inwentaryzacja'!$B$6,36,0)=""),"",OFFSET('Inwentaryzacja'!$B$6,36,0)) | D53: =IF(OR(OFFSET('Inwentaryzacja'!$A$6,36,0)="",OFFSET('Inwentaryzacja'!$D$6,36,0)=""),"",OFFSET('Inwentaryzacja'!$D$6,36,0)) | F53: =IF(AND(ISNUMBER($D53),ISNUMBER($E53)),ROUND($D53*$E53,2),"")
A54: =IF(OR(OFFSET('Inwentaryzacja'!$A$6,37,0)<>"",LEN($D54)>0,LEN($E54)>0),COUNT($A$18:$A53)+1,"") | B54: =IF(OFFSET('Inwentaryzacja'!$A$6,37,0)<>"",OFFSET('Inwentaryzacja'!$A$6,37,0),IF(AND(ISNUMBER($A53),COUNT($A54:$A$517)=0),"Spis zakończono na pozycji "&$A53,"")) | C54: =IF(OR(OFFSET('Inwentaryzacja'!$A$6,37,0)="",OFFSET('Inwentaryzacja'!$B$6,37,0)=""),"",OFFSET('Inwentaryzacja'!$B$6,37,0)) | D54: =IF(OR(OFFSET('Inwentaryzacja'!$A$6,37,0)="",OFFSET('Inwentaryzacja'!$D$6,37,0)=""),"",OFFSET('Inwentaryzacja'!$D$6,37,0)) | F54: =IF(AND(ISNUMBER($D54),ISNUMBER($E54)),ROUND($D54*$E54,2),"")
A55: =IF(OR(OFFSET('Inwentaryzacja'!$A$6,38,0)<>"",LEN($D55)>0,LEN($E55)>0),COUNT($A$18:$A54)+1,"") | B55: =IF(OFFSET('Inwentaryzacja'!$A$6,38,0)<>"",OFFSET('Inwentaryzacja'!$A$6,38,0),IF(AND(ISNUMBER($A54),COUNT($A55:$A$517)=0),"Spis zakończono na pozycji "&$A54,"")) | C55: =IF(OR(OFFSET('Inwentaryzacja'!$A$6,38,0)="",OFFSET('Inwentaryzacja'!$B$6,38,0)=""),"",OFFSET('Inwentaryzacja'!$B$6,38,0)) | D55: =IF(OR(OFFSET('Inwentaryzacja'!$A$6,38,0)="",OFFSET('Inwentaryzacja'!$D$6,38,0)=""),"",OFFSET('Inwentaryzacja'!$D$6,38,0)) | F55: =IF(AND(ISNUMBER($D55),ISNUMBER($E55)),ROUND($D55*$E55,2),"")
A56: =IF(OR(OFFSET('Inwentaryzacja'!$A$6,39,0)<>"",LEN($D56)>0,LEN($E56)>0),COUNT($A$18:$A55)+1,"") | B56: =IF(OFFSET('Inwentaryzacja'!$A$6,39,0)<>"",OFFSET('Inwentaryzacja'!$A$6,39,0),IF(AND(ISNUMBER($A55),COUNT($A56:$A$517)=0),"Spis zakończono na pozycji "&$A55,"")) | C56: =IF(OR(OFFSET('Inwentaryzacja'!$A$6,39,0)="",OFFSET('Inwentaryzacja'!$B$6,39,0)=""),"",OFFSET('Inwentaryzacja'!$B$6,39,0)) | D56: =IF(OR(OFFSET('Inwentaryzacja'!$A$6,39,0)="",OFFSET('Inwentaryzacja'!$D$6,39,0)=""),"",OFFSET('Inwentaryzacja'!$D$6,39,0)) | F56: =IF(AND(ISNUMBER($D56),ISNUMBER($E56)),ROUND($D56*$E56,2),"")
A57: =IF(OR(OFFSET('Inwentaryzacja'!$A$6,40,0)<>"",LEN($D57)>0,LEN($E57)>0),COUNT($A$18:$A56)+1,"") | B57: =IF(OFFSET('Inwentaryzacja'!$A$6,40,0)<>"",OFFSET('Inwentaryzacja'!$A$6,40,0),IF(AND(ISNUMBER($A56),COUNT($A57:$A$517)=0),"Spis zakończono na pozycji "&$A56,"")) | C57: =IF(OR(OFFSET('Inwentaryzacja'!$A$6,40,0)="",OFFSET('Inwentaryzacja'!$B$6,40,0)=""),"",OFFSET('Inwentaryzacja'!$B$6,40,0)) | D57: =IF(OR(OFFSET('Inwentaryzacja'!$A$6,40,0)="",OFFSET('Inwentaryzacja'!$D$6,40,0)=""),"",OFFSET('Inwentaryzacja'!$D$6,40,0)) | F57: =IF(AND(ISNUMBER($D57),ISNUMBER($E57)),ROUND($D57*$E57,2),"")
A58: =IF(OR(OFFSET('Inwentaryzacja'!$A$6,41,0)<>"",LEN($D58)>0,LEN($E58)>0),COUNT($A$18:$A57)+1,"") | B58: =IF(OFFSET('Inwentaryzacja'!$A$6,41,0)<>"",OFFSET('Inwentaryzacja'!$A$6,41,0),IF(AND(ISNUMBER($A57),COUNT($A58:$A$517)=0),"Spis zakończono na pozycji "&$A57,"")) | C58: =IF(OR(OFFSET('Inwentaryzacja'!$A$6,41,0)="",OFFSET('Inwentaryzacja'!$B$6,41,0)=""),"",OFFSET('Inwentaryzacja'!$B$6,41,0)) | D58: =IF(OR(OFFSET('Inwentaryzacja'!$A$6,41,0)="",OFFSET('Inwentaryzacja'!$D$6,41,0)=""),"",OFFSET('Inwentaryzacja'!$D$6,41,0)) | F58: =IF(AND(ISNUMBER($D58),ISNUMBER($E58)),ROUND($D58*$E58,2),"")
A59: =IF(OR(OFFSET('Inwentaryzacja'!$A$6,42,0)<>"",LEN($D59)>0,LEN($E59)>0),COUNT($A$18:$A58)+1,"") | B59: =IF(OFFSET('Inwentaryzacja'!$A$6,42,0)<>"",OFFSET('Inwentaryzacja'!$A$6,42,0),IF(AND(ISNUMBER($A58),COUNT($A59:$A$517)=0),"Spis zakończono na pozycji "&$A58,"")) | C59: =IF(OR(OFFSET('Inwentaryzacja'!$A$6,42,0)="",OFFSET('Inwentaryzacja'!$B$6,42,0)=""),"",OFFSET('Inwentaryzacja'!$B$6,42,0)) | D59: =IF(OR(OFFSET('Inwentaryzacja'!$A$6,42,0)="",OFFSET('Inwentaryzacja'!$D$6,42,0)=""),"",OFFSET('Inwentaryzacja'!$D$6,42,0)) | F59: =IF(AND(ISNUMBER($D59),ISNUMBER($E59)),ROUND($D59*$E59,2),"")
A60: =IF(OR(OFFSET('Inwentaryzacja'!$A$6,43,0)<>"",LEN($D60)>0,LEN($E60)>0),COUNT($A$18:$A59)+1,"") | B60: =IF(OFFSET('Inwentaryzacja'!$A$6,43,0)<>"",OFFSET('Inwentaryzacja'!$A$6,43,0),IF(AND(ISNUMBER($A59),COUNT($A60:$A$517)=0),"Spis zakończono na pozycji "&$A59,"")) | C60: =IF(OR(OFFSET('Inwentaryzacja'!$A$6,43,0)="",OFFSET('Inwentaryzacja'!$B$6,43,0)=""),"",OFFSET('Inwentaryzacja'!$B$6,43,0)) | D60: =IF(OR(OFFSET('Inwentaryzacja'!$A$6,43,0)="",OFFSET('Inwentaryzacja'!$D$6,43,0)=""),"",OFFSET('Inwentaryzacja'!$D$6,43,0)) | F60: =IF(AND(ISNUMBER($D60),ISNUMBER($E60)),ROUND($D60*$E60,2),"")
A61: =IF(OR(OFFSET('Inwentaryzacja'!$A$6,44,0)<>"",LEN($D61)>0,LEN($E61)>0),COUNT($A$18:$A60)+1,"") | B61: =IF(OFFSET('Inwentaryzacja'!$A$6,44,0)<>"",OFFSET('Inwentaryzacja'!$A$6,44,0),IF(AND(ISNUMBER($A60),COUNT($A61:$A$517)=0),"Spis zakończono na pozycji "&$A60,"")) | C61: =IF(OR(OFFSET('Inwentaryzacja'!$A$6,44,0)="",OFFSET('Inwentaryzacja'!$B$6,44,0)=""),"",OFFSET('Inwentaryzacja'!$B$6,44,0)) | D61: =IF(OR(OFFSET('Inwentaryzacja'!$A$6,44,0)="",OFFSET('Inwentaryzacja'!$D$6,44,0)=""),"",OFFSET('Inwentaryzacja'!$D$6,44,0)) | F61: =IF(AND(ISNUMBER($D61),ISNUMBER($E61)),ROUND($D61*$E61,2),"")
A62: =IF(OR(OFFSET('Inwentaryzacja'!$A$6,45,0)<>"",LEN($D62)>0,LEN($E62)>0),COUNT($A$18:$A61)+1,"") | B62: =IF(OFFSET('Inwentaryzacja'!$A$6,45,0)<>"",OFFSET('Inwentaryzacja'!$A$6,45,0),IF(AND(ISNUMBER($A61),COUNT($A62:$A$517)=0),"Spis zakończono na pozycji "&$A61,"")) | C62: =IF(OR(OFFSET('Inwentaryzacja'!$A$6,45,0)="",OFFSET('Inwentaryzacja'!$B$6,45,0)=""),"",OFFSET('Inwentaryzacja'!$B$6,45,0)) | D62: =IF(OR(OFFSET('Inwentaryzacja'!$A$6,45,0)="",OFFSET('Inwentaryzacja'!$D$6,45,0)=""),"",OFFSET('Inwentaryzacja'!$D$6,45,0)) | F62: =IF(AND(ISNUMBER($D62),ISNUMBER($E62)),ROUND($D62*$E62,2),"")
A63: =IF(OR(OFFSET('Inwentaryzacja'!$A$6,46,0)<>"",LEN($D63)>0,LEN($E63)>0),COUNT($A$18:$A62)+1,"") | B63: =IF(OFFSET('Inwentaryzacja'!$A$6,46,0)<>"",OFFSET('Inwentaryzacja'!$A$6,46,0),IF(AND(ISNUMBER($A62),COUNT($A63:$A$517)=0),"Spis zakończono na pozycji "&$A62,"")) | C63: =IF(OR(OFFSET('Inwentaryzacja'!$A$6,46,0)="",OFFSET('Inwentaryzacja'!$B$6,46,0)=""),"",OFFSET('Inwentaryzacja'!$B$6,46,0)) | D63: =IF(OR(OFFSET('Inwentaryzacja'!$A$6,46,0)="",OFFSET('Inwentaryzacja'!$D$6,46,0)=""),"",OFFSET('Inwentaryzacja'!$D$6,46,0)) | F63: =IF(AND(ISNUMBER($D63),ISNUMBER($E63)),ROUND($D63*$E63,2),"")
A64: =IF(OR(OFFSET('Inwentaryzacja'!$A$6,47,0)<>"",LEN($D64)>0,LEN($E64)>0),COUNT($A$18:$A63)+1,"") | B64: =IF(OFFSET('Inwentaryzacja'!$A$6,47,0)<>"",OFFSET('Inwentaryzacja'!$A$6,47,0),IF(AND(ISNUMBER($A63),COUNT($A64:$A$517)=0),"Spis zakończono na pozycji "&$A63,"")) | C64: =IF(OR(OFFSET('Inwentaryzacja'!$A$6,47,0)="",OFFSET('Inwentaryzacja'!$B$6,47,0)=""),"",OFFSET('Inwentaryzacja'!$B$6,47,0)) | D64: =IF(OR(OFFSET('Inwentaryzacja'!$A$6,47,0)="",OFFSET('Inwentaryzacja'!$D$6,47,0)=""),"",OFFSET('Inwentaryzacja'!$D$6,47,0)) | F64: =IF(AND(ISNUMBER($D64),ISNUMBER($E64)),ROUND($D64*$E64,2),"")
A65: =IF(OR(OFFSET('Inwentaryzacja'!$A$6,48,0)<>"",LEN($D65)>0,LEN($E65)>0),COUNT($A$18:$A64)+1,"") | B65: =IF(OFFSET('Inwentaryzacja'!$A$6,48,0)<>"",OFFSET('Inwentaryzacja'!$A$6,48,0),IF(AND(ISNUMBER($A64),COUNT($A65:$A$517)=0),"Spis zakończono na pozycji "&$A64,"")) | C65: =IF(OR(OFFSET('Inwentaryzacja'!$A$6,48,0)="",OFFSET('Inwentaryzacja'!$B$6,48,0)=""),"",OFFSET('Inwentaryzacja'!$B$6,48,0)) | D65: =IF(OR(OFFSET('Inwentaryzacja'!$A$6,48,0)="",OFFSET('Inwentaryzacja'!$D$6,48,0)=""),"",OFFSET('Inwentaryzacja'!$D$6,48,0)) | F65: =IF(AND(ISNUMBER($D65),ISNUMBER($E65)),ROUND($D65*$E65,2),"")
A66: =IF(OR(OFFSET('Inwentaryzacja'!$A$6,49,0)<>"",LEN($D66)>0,LEN($E66)>0),COUNT($A$18:$A65)+1,"") | B66: =IF(OFFSET('Inwentaryzacja'!$A$6,49,0)<>"",OFFSET('Inwentaryzacja'!$A$6,49,0),IF(AND(ISNUMBER($A65),COUNT($A66:$A$517)=0),"Spis zakończono na pozycji "&$A65,"")) | C66: =IF(OR(OFFSET('Inwentaryzacja'!$A$6,49,0)="",OFFSET('Inwentaryzacja'!$B$6,49,0)=""),"",OFFSET('Inwentaryzacja'!$B$6,49,0)) | D66: =IF(OR(OFFSET('Inwentaryzacja'!$A$6,49,0)="",OFFSET('Inwentaryzacja'!$D$6,49,0)=""),"",OFFSET('Inwentaryzacja'!$D$6,49,0)) | F66: =IF(AND(ISNUMBER($D66),ISNUMBER($E66)),ROUND($D66*$E66,2),"")
A67: =IF(OR(OFFSET('Inwentaryzacja'!$A$6,50,0)<>"",LEN($D67)>0,LEN($E67)>0),COUNT($A$18:$A66)+1,"") | B67: =IF(OFFSET('Inwentaryzacja'!$A$6,50,0)<>"",OFFSET('Inwentaryzacja'!$A$6,50,0),IF(AND(ISNUMBER($A66),COUNT($A67:$A$517)=0),"Spis zakończono na pozycji "&$A66,"")) | C67: =IF(OR(OFFSET('Inwentaryzacja'!$A$6,50,0)="",OFFSET('Inwentaryzacja'!$B$6,50,0)=""),"",OFFSET('Inwentaryzacja'!$B$6,50,0)) | D67: =IF(OR(OFFSET('Inwentaryzacja'!$A$6,50,0)="",OFFSET('Inwentaryzacja'!$D$6,50,0)=""),"",OFFSET('Inwentaryzacja'!$D$6,50,0)) | F67: =IF(AND(ISNUMBER($D67),ISNUMBER($E67)),ROUND($D67*$E67,2),"")
A68: =IF(OR(OFFSET('Inwentaryzacja'!$A$6,51,0)<>"",LEN($D68)>0,LEN($E68)>0),COUNT($A$18:$A67)+1,"") | B68: =IF(OFFSET('Inwentaryzacja'!$A$6,51,0)<>"",OFFSET('Inwentaryzacja'!$A$6,51,0),IF(AND(ISNUMBER($A67),COUNT($A68:$A$517)=0),"Spis zakończono na pozycji "&$A67,"")) | C68: =IF(OR(OFFSET('Inwentaryzacja'!$A$6,51,0)="",OFFSET('Inwentaryzacja'!$B$6,51,0)=""),"",OFFSET('Inwentaryzacja'!$B$6,51,0)) | D68: =IF(OR(OFFSET('Inwentaryzacja'!$A$6,51,0)="",OFFSET('Inwentaryzacja'!$D$6,51,0)=""),"",OFFSET('Inwentaryzacja'!$D$6,51,0)) | F68: =IF(AND(ISNUMBER($D68),ISNUMBER($E68)),ROUND($D68*$E68,2),"")
A69: =IF(OR(OFFSET('Inwentaryzacja'!$A$6,52,0)<>"",LEN($D69)>0,LEN($E69)>0),COUNT($A$18:$A68)+1,"") | B69: =IF(OFFSET('Inwentaryzacja'!$A$6,52,0)<>"",OFFSET('Inwentaryzacja'!$A$6,52,0),IF(AND(ISNUMBER($A68),COUNT($A69:$A$517)=0),"Spis zakończono na pozycji "&$A68,"")) | C69: =IF(OR(OFFSET('Inwentaryzacja'!$A$6,52,0)="",OFFSET('Inwentaryzacja'!$B$6,52,0)=""),"",OFFSET('Inwentaryzacja'!$B$6,52,0)) | D69: =IF(OR(OFFSET('Inwentaryzacja'!$A$6,52,0)="",OFFSET('Inwentaryzacja'!$D$6,52,0)=""),"",OFFSET('Inwentaryzacja'!$D$6,52,0)) | F69: =IF(AND(ISNUMBER($D69),ISNUMBER($E69)),ROUND($D69*$E69,2),"")
A70: =IF(OR(OFFSET('Inwentaryzacja'!$A$6,53,0)<>"",LEN($D70)>0,LEN($E70)>0),COUNT($A$18:$A69)+1,"") | B70: =IF(OFFSET('Inwentaryzacja'!$A$6,53,0)<>"",OFFSET('Inwentaryzacja'!$A$6,53,0),IF(AND(ISNUMBER($A69),COUNT($A70:$A$517)=0),"Spis zakończono na pozycji "&$A69,"")) | C70: =IF(OR(OFFSET('Inwentaryzacja'!$A$6,53,0)="",OFFSET('Inwentaryzacja'!$B$6,53,0)=""),"",OFFSET('Inwentaryzacja'!$B$6,53,0)) | D70: =IF(OR(OFFSET('Inwentaryzacja'!$A$6,53,0)="",OFFSET('Inwentaryzacja'!$D$6,53,0)=""),"",OFFSET('Inwentaryzacja'!$D$6,53,0)) | F70: =IF(AND(ISNUMBER($D70),ISNUMBER($E70)),ROUND($D70*$E70,2),"")
A71: =IF(OR(OFFSET('Inwentaryzacja'!$A$6,54,0)<>"",LEN($D71)>0,LEN($E71)>0),COUNT($A$18:$A70)+1,"") | B71: =IF(OFFSET('Inwentaryzacja'!$A$6,54,0)<>"",OFFSET('Inwentaryzacja'!$A$6,54,0),IF(AND(ISNUMBER($A70),COUNT($A71:$A$517)=0),"Spis zakończono na pozycji "&$A70,"")) | C71: =IF(OR(OFFSET('Inwentaryzacja'!$A$6,54,0)="",OFFSET('Inwentaryzacja'!$B$6,54,0)=""),"",OFFSET('Inwentaryzacja'!$B$6,54,0)) | D71: =IF(OR(OFFSET('Inwentaryzacja'!$A$6,54,0)="",OFFSET('Inwentaryzacja'!$D$6,54,0)=""),"",OFFSET('Inwentaryzacja'!$D$6,54,0)) | F71: =IF(AND(ISNUMBER($D71),ISNUMBER($E71)),ROUND($D71*$E71,2),"")
A72: =IF(OR(OFFSET('Inwentaryzacja'!$A$6,55,0)<>"",LEN($D72)>0,LEN($E72)>0),COUNT($A$18:$A71)+1,"") | B72: =IF(OFFSET('Inwentaryzacja'!$A$6,55,0)<>"",OFFSET('Inwentaryzacja'!$A$6,55,0),IF(AND(ISNUMBER($A71),COUNT($A72:$A$517)=0),"Spis zakończono na pozycji "&$A71,"")) | C72: =IF(OR(OFFSET('Inwentaryzacja'!$A$6,55,0)="",OFFSET('Inwentaryzacja'!$B$6,55,0)=""),"",OFFSET('Inwentaryzacja'!$B$6,55,0)) | D72: =IF(OR(OFFSET('Inwentaryzacja'!$A$6,55,0)="",OFFSET('Inwentaryzacja'!$D$6,55,0)=""),"",OFFSET('Inwentaryzacja'!$D$6,55,0)) | F72: =IF(AND(ISNUMBER($D72),ISNUMBER($E72)),ROUND($D72*$E72,2),"")
A73: =IF(OR(OFFSET('Inwentaryzacja'!$A$6,56,0)<>"",LEN($D73)>0,LEN($E73)>0),COUNT($A$18:$A72)+1,"") | B73: =IF(OFFSET('Inwentaryzacja'!$A$6,56,0)<>"",OFFSET('Inwentaryzacja'!$A$6,56,0),IF(AND(ISNUMBER($A72),COUNT($A73:$A$517)=0),"Spis zakończono na pozycji "&$A72,"")) | C73: =IF(OR(OFFSET('Inwentaryzacja'!$A$6,56,0)="",OFFSET('Inwentaryzacja'!$B$6,56,0)=""),"",OFFSET('Inwentaryzacja'!$B$6,56,0)) | D73: =IF(OR(OFFSET('Inwentaryzacja'!$A$6,56,0)="",OFFSET('Inwentaryzacja'!$D$6,56,0)=""),"",OFFSET('Inwentaryzacja'!$D$6,56,0)) | F73: =IF(AND(ISNUMBER($D73),ISNUMBER($E73)),ROUND($D73*$E73,2),"")
A74: =IF(OR(OFFSET('Inwentaryzacja'!$A$6,57,0)<>"",LEN($D74)>0,LEN($E74)>0),COUNT($A$18:$A73)+1,"") | B74: =IF(OFFSET('Inwentaryzacja'!$A$6,57,0)<>"",OFFSET('Inwentaryzacja'!$A$6,57,0),IF(AND(ISNUMBER($A73),COUNT($A74:$A$517)=0),"Spis zakończono na pozycji "&$A73,"")) | C74: =IF(OR(OFFSET('Inwentaryzacja'!$A$6,57,0)="",OFFSET('Inwentaryzacja'!$B$6,57,0)=""),"",OFFSET('Inwentaryzacja'!$B$6,57,0)) | D74: =IF(OR(OFFSET('Inwentaryzacja'!$A$6,57,0)="",OFFSET('Inwentaryzacja'!$D$6,57,0)=""),"",OFFSET('Inwentaryzacja'!$D$6,57,0)) | F74: =IF(AND(ISNUMBER($D74),ISNUMBER($E74)),ROUND($D74*$E74,2),"")
A75: =IF(OR(OFFSET('Inwentaryzacja'!$A$6,58,0)<>"",LEN($D75)>0,LEN($E75)>0),COUNT($A$18:$A74)+1,"") | B75: =IF(OFFSET('Inwentaryzacja'!$A$6,58,0)<>"",OFFSET('Inwentaryzacja'!$A$6,58,0),IF(AND(ISNUMBER($A74),COUNT($A75:$A$517)=0),"Spis zakończono na pozycji "&$A74,"")) | C75: =IF(OR(OFFSET('Inwentaryzacja'!$A$6,58,0)="",OFFSET('Inwentaryzacja'!$B$6,58,0)=""),"",OFFSET('Inwentaryzacja'!$B$6,58,0)) | D75: =IF(OR(OFFSET('Inwentaryzacja'!$A$6,58,0)="",OFFSET('Inwentaryzacja'!$D$6,58,0)=""),"",OFFSET('Inwentaryzacja'!$D$6,58,0)) | F75: =IF(AND(ISNUMBER($D75),ISNUMBER($E75)),ROUND($D75*$E75,2),"")
A76: =IF(OR(OFFSET('Inwentaryzacja'!$A$6,59,0)<>"",LEN($D76)>0,LEN($E76)>0),COUNT($A$18:$A75)+1,"") | B76: =IF(OFFSET('Inwentaryzacja'!$A$6,59,0)<>"",OFFSET('Inwentaryzacja'!$A$6,59,0),IF(AND(ISNUMBER($A75),COUNT($A76:$A$517)=0),"Spis zakończono na pozycji "&$A75,"")) | C76: =IF(OR(OFFSET('Inwentaryzacja'!$A$6,59,0)="",OFFSET('Inwentaryzacja'!$B$6,59,0)=""),"",OFFSET('Inwentaryzacja'!$B$6,59,0)) | D76: =IF(OR(OFFSET('Inwentaryzacja'!$A$6,59,0)="",OFFSET('Inwentaryzacja'!$D$6,59,0)=""),"",OFFSET('Inwentaryzacja'!$D$6,59,0)) | F76: =IF(AND(ISNUMBER($D76),ISNUMBER($E76)),ROUND($D76*$E76,2),"")
A77: =IF(OR(OFFSET('Inwentaryzacja'!$A$6,60,0)<>"",LEN($D77)>0,LEN($E77)>0),COUNT($A$18:$A76)+1,"") | B77: =IF(OFFSET('Inwentaryzacja'!$A$6,60,0)<>"",OFFSET('Inwentaryzacja'!$A$6,60,0),IF(AND(ISNUMBER($A76),COUNT($A77:$A$517)=0),"Spis zakończono na pozycji "&$A76,"")) | C77: =IF(OR(OFFSET('Inwentaryzacja'!$A$6,60,0)="",OFFSET('Inwentaryzacja'!$B$6,60,0)=""),"",OFFSET('Inwentaryzacja'!$B$6,60,0)) | D77: =IF(OR(OFFSET('Inwentaryzacja'!$A$6,60,0)="",OFFSET('Inwentaryzacja'!$D$6,60,0)=""),"",OFFSET('Inwentaryzacja'!$D$6,60,0)) | F77: =IF(AND(ISNUMBER($D77),ISNUMBER($E77)),ROUND($D77*$E77,2),"")
A78: =IF(OR(OFFSET('Inwentaryzacja'!$A$6,61,0)<>"",LEN($D78)>0,LEN($E78)>0),COUNT($A$18:$A77)+1,"") | B78: =IF(OFFSET('Inwentaryzacja'!$A$6,61,0)<>"",OFFSET('Inwentaryzacja'!$A$6,61,0),IF(AND(ISNUMBER($A77),COUNT($A78:$A$517)=0),"Spis zakończono na pozycji "&$A77,"")) | C78: =IF(OR(OFFSET('Inwentaryzacja'!$A$6,61,0)="",OFFSET('Inwentaryzacja'!$B$6,61,0)=""),"",OFFSET('Inwentaryzacja'!$B$6,61,0)) | D78: =IF(OR(OFFSET('Inwentaryzacja'!$A$6,61,0)="",OFFSET('Inwentaryzacja'!$D$6,61,0)=""),"",OFFSET('Inwentaryzacja'!$D$6,61,0)) | F78: =IF(AND(ISNUMBER($D78),ISNUMBER($E78)),ROUND($D78*$E78,2),"")
A79: =IF(OR(OFFSET('Inwentaryzacja'!$A$6,62,0)<>"",LEN($D79)>0,LEN($E79)>0),COUNT($A$18:$A78)+1,"") | B79: =IF(OFFSET('Inwentaryzacja'!$A$6,62,0)<>"",OFFSET('Inwentaryzacja'!$A$6,62,0),IF(AND(ISNUMBER($A78),COUNT($A79:$A$517)=0),"Spis zakończono na pozycji "&$A78,"")) | C79: =IF(OR(OFFSET('Inwentaryzacja'!$A$6,62,0)="",OFFSET('Inwentaryzacja'!$B$6,62,0)=""),"",OFFSET('Inwentaryzacja'!$B$6,62,0)) | D79: =IF(OR(OFFSET('Inwentaryzacja'!$A$6,62,0)="",OFFSET('Inwentaryzacja'!$D$6,62,0)=""),"",OFFSET('Inwentaryzacja'!$D$6,62,0)) | F79: =IF(AND(ISNUMBER($D79),ISNUMBER($E79)),ROUND($D79*$E79,2),"")
A80: =IF(OR(OFFSET('Inwentaryzacja'!$A$6,63,0)<>"",LEN($D80)>0,LEN($E80)>0),COUNT($A$18:$A79)+1,"") | B80: =IF(OFFSET('Inwentaryzacja'!$A$6,63,0)<>"",OFFSET('Inwentaryzacja'!$A$6,63,0),IF(AND(ISNUMBER($A79),COUNT($A80:$A$517)=0),"Spis zakończono na pozycji "&$A79,"")) | C80: =IF(OR(OFFSET('Inwentaryzacja'!$A$6,63,0)="",OFFSET('Inwentaryzacja'!$B$6,63,0)=""),"",OFFSET('Inwentaryzacja'!$B$6,63,0)) | D80: =IF(OR(OFFSET('Inwentaryzacja'!$A$6,63,0)="",OFFSET('Inwentaryzacja'!$D$6,63,0)=""),"",OFFSET('Inwentaryzacja'!$D$6,63,0)) | F80: =IF(AND(ISNUMBER($D80),ISNUMBER($E80)),ROUND($D80*$E80,2),"")
A81: =IF(OR(OFFSET('Inwentaryzacja'!$A$6,64,0)<>"",LEN($D81)>0,LEN($E81)>0),COUNT($A$18:$A80)+1,"") | B81: =IF(OFFSET('Inwentaryzacja'!$A$6,64,0)<>"",OFFSET('Inwentaryzacja'!$A$6,64,0),IF(AND(ISNUMBER($A80),COUNT($A81:$A$517)=0),"Spis zakończono na pozycji "&$A80,"")) | C81: =IF(OR(OFFSET('Inwentaryzacja'!$A$6,64,0)="",OFFSET('Inwentaryzacja'!$B$6,64,0)=""),"",OFFSET('Inwentaryzacja'!$B$6,64,0)) | D81: =IF(OR(OFFSET('Inwentaryzacja'!$A$6,64,0)="",OFFSET('Inwentaryzacja'!$D$6,64,0)=""),"",OFFSET('Inwentaryzacja'!$D$6,64,0)) | F81: =IF(AND(ISNUMBER($D81),ISNUMBER($E81)),ROUND($D81*$E81,2),"")
A82: =IF(OR(OFFSET('Inwentaryzacja'!$A$6,65,0)<>"",LEN($D82)>0,LEN($E82)>0),COUNT($A$18:$A81)+1,"") | B82: =IF(OFFSET('Inwentaryzacja'!$A$6,65,0)<>"",OFFSET('Inwentaryzacja'!$A$6,65,0),IF(AND(ISNUMBER($A81),COUNT($A82:$A$517)=0),"Spis zakończono na pozycji "&$A81,"")) | C82: =IF(OR(OFFSET('Inwentaryzacja'!$A$6,65,0)="",OFFSET('Inwentaryzacja'!$B$6,65,0)=""),"",OFFSET('Inwentaryzacja'!$B$6,65,0)) | D82: =IF(OR(OFFSET('Inwentaryzacja'!$A$6,65,0)="",OFFSET('Inwentaryzacja'!$D$6,65,0)=""),"",OFFSET('Inwentaryzacja'!$D$6,65,0)) | F82: =IF(AND(ISNUMBER($D82),ISNUMBER($E82)),ROUND($D82*$E82,2),"")
A83: =IF(OR(OFFSET('Inwentaryzacja'!$A$6,66,0)<>"",LEN($D83)>0,LEN($E83)>0),COUNT($A$18:$A82)+1,"") | B83: =IF(OFFSET('Inwentaryzacja'!$A$6,66,0)<>"",OFFSET('Inwentaryzacja'!$A$6,66,0),IF(AND(ISNUMBER($A82),COUNT($A83:$A$517)=0),"Spis zakończono na pozycji "&$A82,"")) | C83: =IF(OR(OFFSET('Inwentaryzacja'!$A$6,66,0)="",OFFSET('Inwentaryzacja'!$B$6,66,0)=""),"",OFFSET('Inwentaryzacja'!$B$6,66,0)) | D83: =IF(OR(OFFSET('Inwentaryzacja'!$A$6,66,0)="",OFFSET('Inwentaryzacja'!$D$6,66,0)=""),"",OFFSET('Inwentaryzacja'!$D$6,66,0)) | F83: =IF(AND(ISNUMBER($D83),ISNUMBER($E83)),ROUND($D83*$E83,2),"")
A84: =IF(OR(OFFSET('Inwentaryzacja'!$A$6,67,0)<>"",LEN($D84)>0,LEN($E84)>0),COUNT($A$18:$A83)+1,"") | B84: =IF(OFFSET('Inwentaryzacja'!$A$6,67,0)<>"",OFFSET('Inwentaryzacja'!$A$6,67,0),IF(AND(ISNUMBER($A83),COUNT($A84:$A$517)=0),"Spis zakończono na pozycji "&$A83,"")) | C84: =IF(OR(OFFSET('Inwentaryzacja'!$A$6,67,0)="",OFFSET('Inwentaryzacja'!$B$6,67,0)=""),"",OFFSET('Inwentaryzacja'!$B$6,67,0)) | D84: =IF(OR(OFFSET('Inwentaryzacja'!$A$6,67,0)="",OFFSET('Inwentaryzacja'!$D$6,67,0)=""),"",OFFSET('Inwentaryzacja'!$D$6,67,0)) | F84: =IF(AND(ISNUMBER($D84),ISNUMBER($E84)),ROUND($D84*$E84,2),"")
A85: =IF(OR(OFFSET('Inwentaryzacja'!$A$6,68,0)<>"",LEN($D85)>0,LEN($E85)>0),COUNT($A$18:$A84)+1,"") | B85: =IF(OFFSET('Inwentaryzacja'!$A$6,68,0)<>"",OFFSET('Inwentaryzacja'!$A$6,68,0),IF(AND(ISNUMBER($A84),COUNT($A85:$A$517)=0),"Spis zakończono na pozycji "&$A84,"")) | C85: =IF(OR(OFFSET('Inwentaryzacja'!$A$6,68,0)="",OFFSET('Inwentaryzacja'!$B$6,68,0)=""),"",OFFSET('Inwentaryzacja'!$B$6,68,0)) | D85: =IF(OR(OFFSET('Inwentaryzacja'!$A$6,68,0)="",OFFSET('Inwentaryzacja'!$D$6,68,0)=""),"",OFFSET('Inwentaryzacja'!$D$6,68,0)) | F85: =IF(AND(ISNUMBER($D85),ISNUMBER($E85)),ROUND($D85*$E85,2),"")
A86: =IF(OR(OFFSET('Inwentaryzacja'!$A$6,69,0)<>"",LEN($D86)>0,LEN($E86)>0),COUNT($A$18:$A85)+1,"") | B86: =IF(OFFSET('Inwentaryzacja'!$A$6,69,0)<>"",OFFSET('Inwentaryzacja'!$A$6,69,0),IF(AND(ISNUMBER($A85),COUNT($A86:$A$517)=0),"Spis zakończono na pozycji "&$A85,"")) | C86: =IF(OR(OFFSET('Inwentaryzacja'!$A$6,69,0)="",OFFSET('Inwentaryzacja'!$B$6,69,0)=""),"",OFFSET('Inwentaryzacja'!$B$6,69,0)) | D86: =IF(OR(OFFSET('Inwentaryzacja'!$A$6,69,0)="",OFFSET('Inwentaryzacja'!$D$6,69,0)=""),"",OFFSET('Inwentaryzacja'!$D$6,69,0)) | F86: =IF(AND(ISNUMBER($D86),ISNUMBER($E86)),ROUND($D86*$E86,2),"")
A87: =IF(OR(OFFSET('Inwentaryzacja'!$A$6,70,0)<>"",LEN($D87)>0,LEN($E87)>0),COUNT($A$18:$A86)+1,"") | B87: =IF(OFFSET('Inwentaryzacja'!$A$6,70,0)<>"",OFFSET('Inwentaryzacja'!$A$6,70,0),IF(AND(ISNUMBER($A86),COUNT($A87:$A$517)=0),"Spis zakończono na pozycji "&$A86,"")) | C87: =IF(OR(OFFSET('Inwentaryzacja'!$A$6,70,0)="",OFFSET('Inwentaryzacja'!$B$6,70,0)=""),"",OFFSET('Inwentaryzacja'!$B$6,70,0)) | D87: =IF(OR(OFFSET('Inwentaryzacja'!$A$6,70,0)="",OFFSET('Inwentaryzacja'!$D$6,70,0)=""),"",OFFSET('Inwentaryzacja'!$D$6,70,0)) | F87: =IF(AND(ISNUMBER($D87),ISNUMBER($E87)),ROUND($D87*$E87,2),"")
A88: =IF(OR(OFFSET('Inwentaryzacja'!$A$6,71,0)<>"",LEN($D88)>0,LEN($E88)>0),COUNT($A$18:$A87)+1,"") | B88: =IF(OFFSET('Inwentaryzacja'!$A$6,71,0)<>"",OFFSET('Inwentaryzacja'!$A$6,71,0),IF(AND(ISNUMBER($A87),COUNT($A88:$A$517)=0),"Spis zakończono na pozycji "&$A87,"")) | C88: =IF(OR(OFFSET('Inwentaryzacja'!$A$6,71,0)="",OFFSET('Inwentaryzacja'!$B$6,71,0)=""),"",OFFSET('Inwentaryzacja'!$B$6,71,0)) | D88: =IF(OR(OFFSET('Inwentaryzacja'!$A$6,71,0)="",OFFSET('Inwentaryzacja'!$D$6,71,0)=""),"",OFFSET('Inwentaryzacja'!$D$6,71,0)) | F88: =IF(AND(ISNUMBER($D88),ISNUMBER($E88)),ROUND($D88*$E88,2),"")
A89: =IF(OR(OFFSET('Inwentaryzacja'!$A$6,72,0)<>"",LEN($D89)>0,LEN($E89)>0),COUNT($A$18:$A88)+1,"") | B89: =IF(OFFSET('Inwentaryzacja'!$A$6,72,0)<>"",OFFSET('Inwentaryzacja'!$A$6,72,0),IF(AND(ISNUMBER($A88),COUNT($A89:$A$517)=0),"Spis zakończono na pozycji "&$A88,"")) | C89: =IF(OR(OFFSET('Inwentaryzacja'!$A$6,72,0)="",OFFSET('Inwentaryzacja'!$B$6,72,0)=""),"",OFFSET('Inwentaryzacja'!$B$6,72,0)) | D89: =IF(OR(OFFSET('Inwentaryzacja'!$A$6,72,0)="",OFFSET('Inwentaryzacja'!$D$6,72,0)=""),"",OFFSET('Inwentaryzacja'!$D$6,72,0)) | F89: =IF(AND(ISNUMBER($D89),ISNUMBER($E89)),ROUND($D89*$E89,2),"")
A90: =IF(OR(OFFSET('Inwentaryzacja'!$A$6,73,0)<>"",LEN($D90)>0,LEN($E90)>0),COUNT($A$18:$A89)+1,"") | B90: =IF(OFFSET('Inwentaryzacja'!$A$6,73,0)<>"",OFFSET('Inwentaryzacja'!$A$6,73,0),IF(AND(ISNUMBER($A89),COUNT($A90:$A$517)=0),"Spis zakończono na pozycji "&$A89,"")) | C90: =IF(OR(OFFSET('Inwentaryzacja'!$A$6,73,0)="",OFFSET('Inwentaryzacja'!$B$6,73,0)=""),"",OFFSET('Inwentaryzacja'!$B$6,73,0)) | D90: =IF(OR(OFFSET('Inwentaryzacja'!$A$6,73,0)="",OFFSET('Inwentaryzacja'!$D$6,73,0)=""),"",OFFSET('Inwentaryzacja'!$D$6,73,0)) | F90: =IF(AND(ISNUMBER($D90),ISNUMBER($E90)),ROUND($D90*$E90,2),"")
A91: =IF(OR(OFFSET('Inwentaryzacja'!$A$6,74,0)<>"",LEN($D91)>0,LEN($E91)>0),COUNT($A$18:$A90)+1,"") | B91: =IF(OFFSET('Inwentaryzacja'!$A$6,74,0)<>"",OFFSET('Inwentaryzacja'!$A$6,74,0),IF(AND(ISNUMBER($A90),COUNT($A91:$A$517)=0),"Spis zakończono na pozycji "&$A90,"")) | C91: =IF(OR(OFFSET('Inwentaryzacja'!$A$6,74,0)="",OFFSET('Inwentaryzacja'!$B$6,74,0)=""),"",OFFSET('Inwentaryzacja'!$B$6,74,0)) | D91: =IF(OR(OFFSET('Inwentaryzacja'!$A$6,74,0)="",OFFSET('Inwentaryzacja'!$D$6,74,0)=""),"",OFFSET('Inwentaryzacja'!$D$6,74,0)) | F91: =IF(AND(ISNUMBER($D91),ISNUMBER($E91)),ROUND($D91*$E91,2),"")
A92: =IF(OR(OFFSET('Inwentaryzacja'!$A$6,75,0)<>"",LEN($D92)>0,LEN($E92)>0),COUNT($A$18:$A91)+1,"") | B92: =IF(OFFSET('Inwentaryzacja'!$A$6,75,0)<>"",OFFSET('Inwentaryzacja'!$A$6,75,0),IF(AND(ISNUMBER($A91),COUNT($A92:$A$517)=0),"Spis zakończono na pozycji "&$A91,"")) | C92: =IF(OR(OFFSET('Inwentaryzacja'!$A$6,75,0)="",OFFSET('Inwentaryzacja'!$B$6,75,0)=""),"",OFFSET('Inwentaryzacja'!$B$6,75,0)) | D92: =IF(OR(OFFSET('Inwentaryzacja'!$A$6,75,0)="",OFFSET('Inwentaryzacja'!$D$6,75,0)=""),"",OFFSET('Inwentaryzacja'!$D$6,75,0)) | F92: =IF(AND(ISNUMBER($D92),ISNUMBER($E92)),ROUND($D92*$E92,2),"")
A93: =IF(OR(OFFSET('Inwentaryzacja'!$A$6,76,0)<>"",LEN($D93)>0,LEN($E93)>0),COUNT($A$18:$A92)+1,"") | B93: =IF(OFFSET('Inwentaryzacja'!$A$6,76,0)<>"",OFFSET('Inwentaryzacja'!$A$6,76,0),IF(AND(ISNUMBER($A92),COUNT($A93:$A$517)=0),"Spis zakończono na pozycji "&$A92,"")) | C93: =IF(OR(OFFSET('Inwentaryzacja'!$A$6,76,0)="",OFFSET('Inwentaryzacja'!$B$6,76,0)=""),"",OFFSET('Inwentaryzacja'!$B$6,76,0)) | D93: =IF(OR(OFFSET('Inwentaryzacja'!$A$6,76,0)="",OFFSET('Inwentaryzacja'!$D$6,76,0)=""),"",OFFSET('Inwentaryzacja'!$D$6,76,0)) | F93: =IF(AND(ISNUMBER($D93),ISNUMBER($E93)),ROUND($D93*$E93,2),"")
A94: =IF(OR(OFFSET('Inwentaryzacja'!$A$6,77,0)<>"",LEN($D94)>0,LEN($E94)>0),COUNT($A$18:$A93)+1,"") | B94: =IF(OFFSET('Inwentaryzacja'!$A$6,77,0)<>"",OFFSET('Inwentaryzacja'!$A$6,77,0),IF(AND(ISNUMBER($A93),COUNT($A94:$A$517)=0),"Spis zakończono na pozycji "&$A93,"")) | C94: =IF(OR(OFFSET('Inwentaryzacja'!$A$6,77,0)="",OFFSET('Inwentaryzacja'!$B$6,77,0)=""),"",OFFSET('Inwentaryzacja'!$B$6,77,0)) | D94: =IF(OR(OFFSET('Inwentaryzacja'!$A$6,77,0)="",OFFSET('Inwentaryzacja'!$D$6,77,0)=""),"",OFFSET('Inwentaryzacja'!$D$6,77,0)) | F94: =IF(AND(ISNUMBER($D94),ISNUMBER($E94)),ROUND($D94*$E94,2),"")
A95: =IF(OR(OFFSET('Inwentaryzacja'!$A$6,78,0)<>"",LEN($D95)>0,LEN($E95)>0),COUNT($A$18:$A94)+1,"") | B95: =IF(OFFSET('Inwentaryzacja'!$A$6,78,0)<>"",OFFSET('Inwentaryzacja'!$A$6,78,0),IF(AND(ISNUMBER($A94),COUNT($A95:$A$517)=0),"Spis zakończono na pozycji "&$A94,"")) | C95: =IF(OR(OFFSET('Inwentaryzacja'!$A$6,78,0)="",OFFSET('Inwentaryzacja'!$B$6,78,0)=""),"",OFFSET('Inwentaryzacja'!$B$6,78,0)) | D95: =IF(OR(OFFSET('Inwentaryzacja'!$A$6,78,0)="",OFFSET('Inwentaryzacja'!$D$6,78,0)=""),"",OFFSET('Inwentaryzacja'!$D$6,78,0)) | F95: =IF(AND(ISNUMBER($D95),ISNUMBER($E95)),ROUND($D95*$E95,2),"")
A96: =IF(OR(OFFSET('Inwentaryzacja'!$A$6,79,0)<>"",LEN($D96)>0,LEN($E96)>0),COUNT($A$18:$A95)+1,"") | B96: =IF(OFFSET('Inwentaryzacja'!$A$6,79,0)<>"",OFFSET('Inwentaryzacja'!$A$6,79,0),IF(AND(ISNUMBER($A95),COUNT($A96:$A$517)=0),"Spis zakończono na pozycji "&$A95,"")) | C96: =IF(OR(OFFSET('Inwentaryzacja'!$A$6,79,0)="",OFFSET('Inwentaryzacja'!$B$6,79,0)=""),"",OFFSET('Inwentaryzacja'!$B$6,79,0)) | D96: =IF(OR(OFFSET('Inwentaryzacja'!$A$6,79,0)="",OFFSET('Inwentaryzacja'!$D$6,79,0)=""),"",OFFSET('Inwentaryzacja'!$D$6,79,0)) | F96: =IF(AND(ISNUMBER($D96),ISNUMBER($E96)),ROUND($D96*$E96,2),"")
A97: =IF(OR(OFFSET('Inwentaryzacja'!$A$6,80,0)<>"",LEN($D97)>0,LEN($E97)>0),COUNT($A$18:$A96)+1,"") | B97: =IF(OFFSET('Inwentaryzacja'!$A$6,80,0)<>"",OFFSET('Inwentaryzacja'!$A$6,80,0),IF(AND(ISNUMBER($A96),COUNT($A97:$A$517)=0),"Spis zakończono na pozycji "&$A96,"")) | C97: =IF(OR(OFFSET('Inwentaryzacja'!$A$6,80,0)="",OFFSET('Inwentaryzacja'!$B$6,80,0)=""),"",OFFSET('Inwentaryzacja'!$B$6,80,0)) | D97: =IF(OR(OFFSET('Inwentaryzacja'!$A$6,80,0)="",OFFSET('Inwentaryzacja'!$D$6,80,0)=""),"",OFFSET('Inwentaryzacja'!$D$6,80,0)) | F97: =IF(AND(ISNUMBER($D97),ISNUMBER($E97)),ROUND($D97*$E97,2),"")
A98: =IF(OR(OFFSET('Inwentaryzacja'!$A$6,81,0)<>"",LEN($D98)>0,LEN($E98)>0),COUNT($A$18:$A97)+1,"") | B98: =IF(OFFSET('Inwentaryzacja'!$A$6,81,0)<>"",OFFSET('Inwentaryzacja'!$A$6,81,0),IF(AND(ISNUMBER($A97),COUNT($A98:$A$517)=0),"Spis zakończono na pozycji "&$A97,"")) | C98: =IF(OR(OFFSET('Inwentaryzacja'!$A$6,81,0)="",OFFSET('Inwentaryzacja'!$B$6,81,0)=""),"",OFFSET('Inwentaryzacja'!$B$6,81,0)) | D98: =IF(OR(OFFSET('Inwentaryzacja'!$A$6,81,0)="",OFFSET('Inwentaryzacja'!$D$6,81,0)=""),"",OFFSET('Inwentaryzacja'!$D$6,81,0)) | F98: =IF(AND(ISNUMBER($D98),ISNUMBER($E98)),ROUND($D98*$E98,2),"")
A99: =IF(OR(OFFSET('Inwentaryzacja'!$A$6,82,0)<>"",LEN($D99)>0,LEN($E99)>0),COUNT($A$18:$A98)+1,"") | B99: =IF(OFFSET('Inwentaryzacja'!$A$6,82,0)<>"",OFFSET('Inwentaryzacja'!$A$6,82,0),IF(AND(ISNUMBER($A98),COUNT($A99:$A$517)=0),"Spis zakończono na pozycji "&$A98,"")) | C99: =IF(OR(OFFSET('Inwentaryzacja'!$A$6,82,0)="",OFFSET('Inwentaryzacja'!$B$6,82,0)=""),"",OFFSET('Inwentaryzacja'!$B$6,82,0)) | D99: =IF(OR(OFFSET('Inwentaryzacja'!$A$6,82,0)="",OFFSET('Inwentaryzacja'!$D$6,82,0)=""),"",OFFSET('Inwentaryzacja'!$D$6,82,0)) | F99: =IF(AND(ISNUMBER($D99),ISNUMBER($E99)),ROUND($D99*$E99,2),"")
A100: =IF(OR(OFFSET('Inwentaryzacja'!$A$6,83,0)<>"",LEN($D100)>0,LEN($E100)>0),COUNT($A$18:$A99)+1,"") | B100: =IF(OFFSET('Inwentaryzacja'!$A$6,83,0)<>"",OFFSET('Inwentaryzacja'!$A$6,83,0),IF(AND(ISNUMBER($A99),COUNT($A100:$A$517)=0),"Spis zakończono na pozycji "&$A99,"")) | C100: =IF(OR(OFFSET('Inwentaryzacja'!$A$6,83,0)="",OFFSET('Inwentaryzacja'!$B$6,83,0)=""),"",OFFSET('Inwentaryzacja'!$B$6,83,0)) | D100: =IF(OR(OFFSET('Inwentaryzacja'!$A$6,83,0)="",OFFSET('Inwentaryzacja'!$D$6,83,0)=""),"",OFFSET('Inwentaryzacja'!$D$6,83,0)) | F100: =IF(AND(ISNUMBER($D100),ISNUMBER($E100)),ROUND($D100*$E100,2),"")
A101: =IF(OR(OFFSET('Inwentaryzacja'!$A$6,84,0)<>"",LEN($D101)>0,LEN($E101)>0),COUNT($A$18:$A100)+1,"") | B101: =IF(OFFSET('Inwentaryzacja'!$A$6,84,0)<>"",OFFSET('Inwentaryzacja'!$A$6,84,0),IF(AND(ISNUMBER($A100),COUNT($A101:$A$517)=0),"Spis zakończono na pozycji "&$A100,"")) | C101: =IF(OR(OFFSET('Inwentaryzacja'!$A$6,84,0)="",OFFSET('Inwentaryzacja'!$B$6,84,0)=""),"",OFFSET('Inwentaryzacja'!$B$6,84,0)) | D101: =IF(OR(OFFSET('Inwentaryzacja'!$A$6,84,0)="",OFFSET('Inwentaryzacja'!$D$6,84,0)=""),"",OFFSET('Inwentaryzacja'!$D$6,84,0)) | F101: =IF(AND(ISNUMBER($D101),ISNUMBER($E101)),ROUND($D101*$E101,2),"")
A102: =IF(OR(OFFSET('Inwentaryzacja'!$A$6,85,0)<>"",LEN($D102)>0,LEN($E102)>0),COUNT($A$18:$A101)+1,"") | B102: =IF(OFFSET('Inwentaryzacja'!$A$6,85,0)<>"",OFFSET('Inwentaryzacja'!$A$6,85,0),IF(AND(ISNUMBER($A101),COUNT($A102:$A$517)=0),"Spis zakończono na pozycji "&$A101,"")) | C102: =IF(OR(OFFSET('Inwentaryzacja'!$A$6,85,0)="",OFFSET('Inwentaryzacja'!$B$6,85,0)=""),"",OFFSET('Inwentaryzacja'!$B$6,85,0)) | D102: =IF(OR(OFFSET('Inwentaryzacja'!$A$6,85,0)="",OFFSET('Inwentaryzacja'!$D$6,85,0)=""),"",OFFSET('Inwentaryzacja'!$D$6,85,0)) | F102: =IF(AND(ISNUMBER($D102),ISNUMBER($E102)),ROUND($D102*$E102,2),"")
...

Sheet Invenva
A1: Ten plik przygotowała Invenva, aplikacja magazynowa dla małych sklepów i zespołów.
A2: Liczenie w Invenva utrzymuje każdy wiersz na miejscu, liczy przez skanowanie kodów kreskowych i zapisuje jeden zapis inwentaryzacji z tym, kto, kiedy, przed i po.
A3: Otwórz Invenva
