Workbook

Sheet Stok
A1: Ad | B1: Miktar | C1: Birim | D1: Açılış stoğu | E1: Stok Girişi | F1: Stok Çıkışı | G1: Düşük stok | H1: Satış fiyatı | I1: Alış fiyatı | J1: Stok değeri | K1: Kategori | L1: Notlar | M1: ="Stok değeri"&": "&FIXED(SUM($J$2:$J$501),2) | O1: invenva.com
B2: =IF($A2="","",IF(ISNUMBER($D2),$D2,0)+$E2-$F2) | E2: =IF($A2="","",IF(OR(LEFT($A2,1)="<",LEFT($A2,1)=">",LEFT($A2,1)="="),SUMPRODUCT(--('Hareketler'!$B$2:$B$20001=$A2),'Hareketler'!$C$2:$C$20001),SUMIF('Hareketler'!$B:$B,"="&SUBSTITUTE(SUBSTITUTE(SUBSTITUTE($A2,"~","~~"),"*","~*"),"?","~?"),'Hareketler'!$C:$C))) | F2: =IF($A2="","",IF(OR(LEFT($A2,1)="<",LEFT($A2,1)=">",LEFT($A2,1)="="),SUMPRODUCT(--('Hareketler'!$B$2:$B$20001=$A2),'Hareketler'!$D$2:$D$20001),SUMIF('Hareketler'!$B:$B,"="&SUBSTITUTE(SUBSTITUTE(SUBSTITUTE($A2,"~","~~"),"*","~*"),"?","~?"),'Hareketler'!$D:$D))) | J2: =IF($A2="","",IF(IF(ISNUMBER($H2),$H2,0)>0,$B2*$H2,IF(IF(ISNUMBER($I2),$I2,0)>0,$B2*$I2,"")))
B3: =IF($A3="","",IF(ISNUMBER($D3),$D3,0)+$E3-$F3) | E3: =IF($A3="","",IF(OR(LEFT($A3,1)="<",LEFT($A3,1)=">",LEFT($A3,1)="="),SUMPRODUCT(--('Hareketler'!$B$2:$B$20001=$A3),'Hareketler'!$C$2:$C$20001),SUMIF('Hareketler'!$B:$B,"="&SUBSTITUTE(SUBSTITUTE(SUBSTITUTE($A3,"~","~~"),"*","~*"),"?","~?"),'Hareketler'!$C:$C))) | F3: =IF($A3="","",IF(OR(LEFT($A3,1)="<",LEFT($A3,1)=">",LEFT($A3,1)="="),SUMPRODUCT(--('Hareketler'!$B$2:$B$20001=$A3),'Hareketler'!$D$2:$D$20001),SUMIF('Hareketler'!$B:$B,"="&SUBSTITUTE(SUBSTITUTE(SUBSTITUTE($A3,"~","~~"),"*","~*"),"?","~?"),'Hareketler'!$D:$D))) | J3: =IF($A3="","",IF(IF(ISNUMBER($H3),$H3,0)>0,$B3*$H3,IF(IF(ISNUMBER($I3),$I3,0)>0,$B3*$I3,"")))
B4: =IF($A4="","",IF(ISNUMBER($D4),$D4,0)+$E4-$F4) | E4: =IF($A4="","",IF(OR(LEFT($A4,1)="<",LEFT($A4,1)=">",LEFT($A4,1)="="),SUMPRODUCT(--('Hareketler'!$B$2:$B$20001=$A4),'Hareketler'!$C$2:$C$20001),SUMIF('Hareketler'!$B:$B,"="&SUBSTITUTE(SUBSTITUTE(SUBSTITUTE($A4,"~","~~"),"*","~*"),"?","~?"),'Hareketler'!$C:$C))) | F4: =IF($A4="","",IF(OR(LEFT($A4,1)="<",LEFT($A4,1)=">",LEFT($A4,1)="="),SUMPRODUCT(--('Hareketler'!$B$2:$B$20001=$A4),'Hareketler'!$D$2:$D$20001),SUMIF('Hareketler'!$B:$B,"="&SUBSTITUTE(SUBSTITUTE(SUBSTITUTE($A4,"~","~~"),"*","~*"),"?","~?"),'Hareketler'!$D:$D))) | J4: =IF($A4="","",IF(IF(ISNUMBER($H4),$H4,0)>0,$B4*$H4,IF(IF(ISNUMBER($I4),$I4,0)>0,$B4*$I4,"")))
B5: =IF($A5="","",IF(ISNUMBER($D5),$D5,0)+$E5-$F5) | E5: =IF($A5="","",IF(OR(LEFT($A5,1)="<",LEFT($A5,1)=">",LEFT($A5,1)="="),SUMPRODUCT(--('Hareketler'!$B$2:$B$20001=$A5),'Hareketler'!$C$2:$C$20001),SUMIF('Hareketler'!$B:$B,"="&SUBSTITUTE(SUBSTITUTE(SUBSTITUTE($A5,"~","~~"),"*","~*"),"?","~?"),'Hareketler'!$C:$C))) | F5: =IF($A5="","",IF(OR(LEFT($A5,1)="<",LEFT($A5,1)=">",LEFT($A5,1)="="),SUMPRODUCT(--('Hareketler'!$B$2:$B$20001=$A5),'Hareketler'!$D$2:$D$20001),SUMIF('Hareketler'!$B:$B,"="&SUBSTITUTE(SUBSTITUTE(SUBSTITUTE($A5,"~","~~"),"*","~*"),"?","~?"),'Hareketler'!$D:$D))) | J5: =IF($A5="","",IF(IF(ISNUMBER($H5),$H5,0)>0,$B5*$H5,IF(IF(ISNUMBER($I5),$I5,0)>0,$B5*$I5,"")))
B6: =IF($A6="","",IF(ISNUMBER($D6),$D6,0)+$E6-$F6) | E6: =IF($A6="","",IF(OR(LEFT($A6,1)="<",LEFT($A6,1)=">",LEFT($A6,1)="="),SUMPRODUCT(--('Hareketler'!$B$2:$B$20001=$A6),'Hareketler'!$C$2:$C$20001),SUMIF('Hareketler'!$B:$B,"="&SUBSTITUTE(SUBSTITUTE(SUBSTITUTE($A6,"~","~~"),"*","~*"),"?","~?"),'Hareketler'!$C:$C))) | F6: =IF($A6="","",IF(OR(LEFT($A6,1)="<",LEFT($A6,1)=">",LEFT($A6,1)="="),SUMPRODUCT(--('Hareketler'!$B$2:$B$20001=$A6),'Hareketler'!$D$2:$D$20001),SUMIF('Hareketler'!$B:$B,"="&SUBSTITUTE(SUBSTITUTE(SUBSTITUTE($A6,"~","~~"),"*","~*"),"?","~?"),'Hareketler'!$D:$D))) | J6: =IF($A6="","",IF(IF(ISNUMBER($H6),$H6,0)>0,$B6*$H6,IF(IF(ISNUMBER($I6),$I6,0)>0,$B6*$I6,"")))
B7: =IF($A7="","",IF(ISNUMBER($D7),$D7,0)+$E7-$F7) | E7: =IF($A7="","",IF(OR(LEFT($A7,1)="<",LEFT($A7,1)=">",LEFT($A7,1)="="),SUMPRODUCT(--('Hareketler'!$B$2:$B$20001=$A7),'Hareketler'!$C$2:$C$20001),SUMIF('Hareketler'!$B:$B,"="&SUBSTITUTE(SUBSTITUTE(SUBSTITUTE($A7,"~","~~"),"*","~*"),"?","~?"),'Hareketler'!$C:$C))) | F7: =IF($A7="","",IF(OR(LEFT($A7,1)="<",LEFT($A7,1)=">",LEFT($A7,1)="="),SUMPRODUCT(--('Hareketler'!$B$2:$B$20001=$A7),'Hareketler'!$D$2:$D$20001),SUMIF('Hareketler'!$B:$B,"="&SUBSTITUTE(SUBSTITUTE(SUBSTITUTE($A7,"~","~~"),"*","~*"),"?","~?"),'Hareketler'!$D:$D))) | J7: =IF($A7="","",IF(IF(ISNUMBER($H7),$H7,0)>0,$B7*$H7,IF(IF(ISNUMBER($I7),$I7,0)>0,$B7*$I7,"")))
B8: =IF($A8="","",IF(ISNUMBER($D8),$D8,0)+$E8-$F8) | E8: =IF($A8="","",IF(OR(LEFT($A8,1)="<",LEFT($A8,1)=">",LEFT($A8,1)="="),SUMPRODUCT(--('Hareketler'!$B$2:$B$20001=$A8),'Hareketler'!$C$2:$C$20001),SUMIF('Hareketler'!$B:$B,"="&SUBSTITUTE(SUBSTITUTE(SUBSTITUTE($A8,"~","~~"),"*","~*"),"?","~?"),'Hareketler'!$C:$C))) | F8: =IF($A8="","",IF(OR(LEFT($A8,1)="<",LEFT($A8,1)=">",LEFT($A8,1)="="),SUMPRODUCT(--('Hareketler'!$B$2:$B$20001=$A8),'Hareketler'!$D$2:$D$20001),SUMIF('Hareketler'!$B:$B,"="&SUBSTITUTE(SUBSTITUTE(SUBSTITUTE($A8,"~","~~"),"*","~*"),"?","~?"),'Hareketler'!$D:$D))) | J8: =IF($A8="","",IF(IF(ISNUMBER($H8),$H8,0)>0,$B8*$H8,IF(IF(ISNUMBER($I8),$I8,0)>0,$B8*$I8,"")))
B9: =IF($A9="","",IF(ISNUMBER($D9),$D9,0)+$E9-$F9) | E9: =IF($A9="","",IF(OR(LEFT($A9,1)="<",LEFT($A9,1)=">",LEFT($A9,1)="="),SUMPRODUCT(--('Hareketler'!$B$2:$B$20001=$A9),'Hareketler'!$C$2:$C$20001),SUMIF('Hareketler'!$B:$B,"="&SUBSTITUTE(SUBSTITUTE(SUBSTITUTE($A9,"~","~~"),"*","~*"),"?","~?"),'Hareketler'!$C:$C))) | F9: =IF($A9="","",IF(OR(LEFT($A9,1)="<",LEFT($A9,1)=">",LEFT($A9,1)="="),SUMPRODUCT(--('Hareketler'!$B$2:$B$20001=$A9),'Hareketler'!$D$2:$D$20001),SUMIF('Hareketler'!$B:$B,"="&SUBSTITUTE(SUBSTITUTE(SUBSTITUTE($A9,"~","~~"),"*","~*"),"?","~?"),'Hareketler'!$D:$D))) | J9: =IF($A9="","",IF(IF(ISNUMBER($H9),$H9,0)>0,$B9*$H9,IF(IF(ISNUMBER($I9),$I9,0)>0,$B9*$I9,"")))
B10: =IF($A10="","",IF(ISNUMBER($D10),$D10,0)+$E10-$F10) | E10: =IF($A10="","",IF(OR(LEFT($A10,1)="<",LEFT($A10,1)=">",LEFT($A10,1)="="),SUMPRODUCT(--('Hareketler'!$B$2:$B$20001=$A10),'Hareketler'!$C$2:$C$20001),SUMIF('Hareketler'!$B:$B,"="&SUBSTITUTE(SUBSTITUTE(SUBSTITUTE($A10,"~","~~"),"*","~*"),"?","~?"),'Hareketler'!$C:$C))) | F10: =IF($A10="","",IF(OR(LEFT($A10,1)="<",LEFT($A10,1)=">",LEFT($A10,1)="="),SUMPRODUCT(--('Hareketler'!$B$2:$B$20001=$A10),'Hareketler'!$D$2:$D$20001),SUMIF('Hareketler'!$B:$B,"="&SUBSTITUTE(SUBSTITUTE(SUBSTITUTE($A10,"~","~~"),"*","~*"),"?","~?"),'Hareketler'!$D:$D))) | J10: =IF($A10="","",IF(IF(ISNUMBER($H10),$H10,0)>0,$B10*$H10,IF(IF(ISNUMBER($I10),$I10,0)>0,$B10*$I10,"")))
B11: =IF($A11="","",IF(ISNUMBER($D11),$D11,0)+$E11-$F11) | E11: =IF($A11="","",IF(OR(LEFT($A11,1)="<",LEFT($A11,1)=">",LEFT($A11,1)="="),SUMPRODUCT(--('Hareketler'!$B$2:$B$20001=$A11),'Hareketler'!$C$2:$C$20001),SUMIF('Hareketler'!$B:$B,"="&SUBSTITUTE(SUBSTITUTE(SUBSTITUTE($A11,"~","~~"),"*","~*"),"?","~?"),'Hareketler'!$C:$C))) | F11: =IF($A11="","",IF(OR(LEFT($A11,1)="<",LEFT($A11,1)=">",LEFT($A11,1)="="),SUMPRODUCT(--('Hareketler'!$B$2:$B$20001=$A11),'Hareketler'!$D$2:$D$20001),SUMIF('Hareketler'!$B:$B,"="&SUBSTITUTE(SUBSTITUTE(SUBSTITUTE($A11,"~","~~"),"*","~*"),"?","~?"),'Hareketler'!$D:$D))) | J11: =IF($A11="","",IF(IF(ISNUMBER($H11),$H11,0)>0,$B11*$H11,IF(IF(ISNUMBER($I11),$I11,0)>0,$B11*$I11,"")))
B12: =IF($A12="","",IF(ISNUMBER($D12),$D12,0)+$E12-$F12) | E12: =IF($A12="","",IF(OR(LEFT($A12,1)="<",LEFT($A12,1)=">",LEFT($A12,1)="="),SUMPRODUCT(--('Hareketler'!$B$2:$B$20001=$A12),'Hareketler'!$C$2:$C$20001),SUMIF('Hareketler'!$B:$B,"="&SUBSTITUTE(SUBSTITUTE(SUBSTITUTE($A12,"~","~~"),"*","~*"),"?","~?"),'Hareketler'!$C:$C))) | F12: =IF($A12="","",IF(OR(LEFT($A12,1)="<",LEFT($A12,1)=">",LEFT($A12,1)="="),SUMPRODUCT(--('Hareketler'!$B$2:$B$20001=$A12),'Hareketler'!$D$2:$D$20001),SUMIF('Hareketler'!$B:$B,"="&SUBSTITUTE(SUBSTITUTE(SUBSTITUTE($A12,"~","~~"),"*","~*"),"?","~?"),'Hareketler'!$D:$D))) | J12: =IF($A12="","",IF(IF(ISNUMBER($H12),$H12,0)>0,$B12*$H12,IF(IF(ISNUMBER($I12),$I12,0)>0,$B12*$I12,"")))
B13: =IF($A13="","",IF(ISNUMBER($D13),$D13,0)+$E13-$F13) | E13: =IF($A13="","",IF(OR(LEFT($A13,1)="<",LEFT($A13,1)=">",LEFT($A13,1)="="),SUMPRODUCT(--('Hareketler'!$B$2:$B$20001=$A13),'Hareketler'!$C$2:$C$20001),SUMIF('Hareketler'!$B:$B,"="&SUBSTITUTE(SUBSTITUTE(SUBSTITUTE($A13,"~","~~"),"*","~*"),"?","~?"),'Hareketler'!$C:$C))) | F13: =IF($A13="","",IF(OR(LEFT($A13,1)="<",LEFT($A13,1)=">",LEFT($A13,1)="="),SUMPRODUCT(--('Hareketler'!$B$2:$B$20001=$A13),'Hareketler'!$D$2:$D$20001),SUMIF('Hareketler'!$B:$B,"="&SUBSTITUTE(SUBSTITUTE(SUBSTITUTE($A13,"~","~~"),"*","~*"),"?","~?"),'Hareketler'!$D:$D))) | J13: =IF($A13="","",IF(IF(ISNUMBER($H13),$H13,0)>0,$B13*$H13,IF(IF(ISNUMBER($I13),$I13,0)>0,$B13*$I13,"")))
... B501: =IF($A501="","",IF(ISNUMBER($D501),$D501,0)+$E501-$F501) | E501: =IF($A501="","",IF(OR(LEFT($A501,1)="<",LEFT($A501,1)=">",LEFT($A501,1)="="),SUMPRODUCT(--('Hareketler'!$B$2:$B$20001=$A501),'Hareketler'!$C$2:$C$20001),SUMIF('Hareketler'!$B:$B,"="&SUBSTITUTE(SUBSTITUTE(SUBSTITUTE($A501,"~","~~"),"*","~*"),"?","~?"),'Hareketler'!$C:$C))) | F501: =IF($A501="","",IF(OR(LEFT($A501,1)="<",LEFT($A501,1)=">",LEFT($A501,1)="="),SUMPRODUCT(--('Hareketler'!$B$2:$B$20001=$A501),'Hareketler'!$D$2:$D$20001),SUMIF('Hareketler'!$B:$B,"="&SUBSTITUTE(SUBSTITUTE(SUBSTITUTE($A501,"~","~~"),"*","~*"),"?","~?"),'Hareketler'!$D:$D))) | J501: =IF($A501="","",IF(IF(ISNUMBER($H501),$H501,0)>0,$B501*$H501,IF(IF(ISNUMBER($I501),$I501,0)>0,$B501*$I501,"")))

Sheet Hareketler
A1: Tarih | B1: Ürün | C1: Stok Girişi | D1: Stok Çıkışı | E1: Not

Sheet Invenva
A1: Bu dosya, küçük dükkanlar ve ekipler için stok uygulaması Invenva tarafından hazırlandı.
A2: Liste Excel'e sığmaz hale gelince Invenva Pro bu dosyayı tek adımda içe aktarır: her ürün güncel miktarıyla gelir.
A3: Invenva'yı aç
